{"text_format":"1","workbook":"xlsx","n_sheets":3,"sheets":["Pořadí jednotlivců","Pořadí družstev","Záznamy hry"],"not_rendered":{"charts":0,"images":0,"macros":1,"external_links":0,"defined_names":3,"comments":0,"pivot_tables":0},"unopened":[],"bounds":{"document_bytes":16777216,"sheet_cells":100000,"rows_first":2000,"rows_last":500,"rows_between":2000,"halvings":0,"cell_chars":16384,"cell_head_chars":4096},"cells_cut":0,"cells_raw":0,"read":"whole","date_system":"1900"}

{"sheet":"Pořadí jednotlivců","index":0,"n_rows":82,"n_cols":18,"rows_kept":82,"cut":false,"hidden":false,"merged":[[0,0,1,0],[0,1,1,1],[0,2,0,4],[0,5,0,7],[0,14,0,17],[0,8,0,10],[0,11,0,13]]}
["Pořadí","Hráč","Dráha 1",null,null,"Dráha 2",null,null,"Dráha 3",null,null,"Dráha 4",null,null,"CELKEM"]
[null,null,"Plné","Dor.","Chyby","Plné","Dor.","Chyby","Plné","Dor.","Chyby","Plné","Dor.","Chyby","Plné","Dor.","Chyby","Celkový\nvýkon"]
["1.",{"$f":"'Záznamy hry'!B30","v":"Novák Jan"},{"$f":"'Záznamy hry'!C30","v":95},{"$f":"'Záznamy hry'!D30","v":72},{"$f":"'Záznamy hry'!E30","v":1},{"$f":"'Záznamy hry'!F30","v":96},{"$f":"'Záznamy hry'!G30","v":52},{"$f":"'Záznamy hry'!H30","v":1},{"$f":"'Záznamy hry'!I30","v":102},{"$f":"'Záznamy hry'!J30","v":61},{"$f":"'Záznamy hry'!K30","v":0},{"$f":"'Záznamy hry'!L30","v":91},{"$f":"'Záznamy hry'!M30","v":53},{"$f":"'Záznamy hry'!N30","v":0},{"$f":"C3+F3+I3+L3","v":384},{"$f":"D3+G3+J3+M3","v":238},{"$f":"E3+H3+K3+N3","v":2},{"$f":"O3+P3","v":622}]
["2.",{"$f":"'Záznamy hry'!B35","v":"Mašková Blanka"},{"$f":"'Záznamy hry'!C35","v":92},{"$f":"'Záznamy hry'!D35","v":45},{"$f":"'Záznamy hry'!E35","v":1},{"$f":"'Záznamy hry'!F35","v":107},{"$f":"'Záznamy hry'!G35","v":62},{"$f":"'Záznamy hry'!H35","v":2},{"$f":"'Záznamy hry'!I35","v":104},{"$f":"'Záznamy hry'!J35","v":42},{"$f":"'Záznamy hry'!K35","v":1},{"$f":"'Záznamy hry'!L35","v":98},{"$f":"'Záznamy hry'!M35","v":44},{"$f":"'Záznamy hry'!N35","v":0},{"$f":"C4+F4+I4+L4","v":401},{"$f":"D4+G4+J4+M4","v":193},{"$f":"E4+H4+K4+N4","v":4},{"$f":"O4+P4","v":594}]
["3.",{"$f":"'Záznamy hry'!B9","v":"Dúška David"},{"$f":"'Záznamy hry'!C9","v":98},{"$f":"'Záznamy hry'!D9","v":53},{"$f":"'Záznamy hry'!E9","v":0},{"$f":"'Záznamy hry'!F9","v":100},{"$f":"'Záznamy hry'!G9","v":44},{"$f":"'Záznamy hry'!H9","v":1},{"$f":"'Záznamy hry'!I9","v":90},{"$f":"'Záznamy hry'!J9","v":50},{"$f":"'Záznamy hry'!K9","v":0},{"$f":"'Záznamy hry'!L9","v":95},{"$f":"'Záznamy hry'!M9","v":62},{"$f":"'Záznamy hry'!N9","v":0},{"$f":"C5+F5+I5+L5","v":383},{"$f":"D5+G5+J5+M5","v":209},{"$f":"E5+H5+K5+N5","v":1},{"$f":"O5+P5","v":592}]
["4.",{"$f":"'Záznamy hry'!B23","v":"Dvořák Zdeněk"},{"$f":"'Záznamy hry'!C23","v":95},{"$f":"'Záznamy hry'!D23","v":68},{"$f":"'Záznamy hry'!E23","v":0},{"$f":"'Záznamy hry'!F23","v":91},{"$f":"'Záznamy hry'!G23","v":36},{"$f":"'Záznamy hry'!H23","v":0},{"$f":"'Záznamy hry'!I23","v":86},{"$f":"'Záznamy hry'!J23","v":34},{"$f":"'Záznamy hry'!K23","v":3},{"$f":"'Záznamy hry'!L23","v":110},{"$f":"'Záznamy hry'!M23","v":68},{"$f":"'Záznamy hry'!N23","v":0},{"$f":"C6+F6+I6+L6","v":382},{"$f":"D6+G6+J6+M6","v":206},{"$f":"E6+H6+K6+N6","v":3},{"$f":"O6+P6","v":588}]
["5.",{"$f":"'Záznamy hry'!B43","v":"Kučera Vladimír"},{"$f":"'Záznamy hry'!C43","v":103},{"$f":"'Záznamy hry'!D43","v":62},{"$f":"'Záznamy hry'!E43","v":1},{"$f":"'Záznamy hry'!F43","v":95},{"$f":"'Záznamy hry'!G43","v":51},{"$f":"'Záznamy hry'!H43","v":0},{"$f":"'Záznamy hry'!I43","v":86},{"$f":"'Záznamy hry'!J43","v":49},{"$f":"'Záznamy hry'!K43","v":2},{"$f":"'Záznamy hry'!L43","v":88},{"$f":"'Záznamy hry'!M43","v":53},{"$f":"'Záznamy hry'!N43","v":0},{"$f":"C7+F7+I7+L7","v":372},{"$f":"D7+G7+J7+M7","v":215},{"$f":"E7+H7+K7+N7","v":3},{"$f":"O7+P7","v":587}]
["6.",{"$f":"'Záznamy hry'!B55","v":"Takáč Ladislav"},{"$f":"'Záznamy hry'!C55","v":95},{"$f":"'Záznamy hry'!D55","v":57},{"$f":"'Záznamy hry'!E55","v":0},{"$f":"'Záznamy hry'!F55","v":97},{"$f":"'Záznamy hry'!G55","v":43},{"$f":"'Záznamy hry'!H55","v":0},{"$f":"'Záznamy hry'!I55","v":84},{"$f":"'Záznamy hry'!J55","v":60},{"$f":"'Záznamy hry'!K55","v":0},{"$f":"'Záznamy hry'!L55","v":101},{"$f":"'Záznamy hry'!M55","v":44},{"$f":"'Záznamy hry'!N55","v":2},{"$f":"C8+F8+I8+L8","v":377},{"$f":"D8+G8+J8+M8","v":204},{"$f":"E8+H8+K8+N8","v":2},{"$f":"O8+P8","v":581}]
["7.",{"$f":"'Záznamy hry'!B52","v":"Filakovský Martin"},{"$f":"'Záznamy hry'!C52","v":98},{"$f":"'Záznamy hry'!D52","v":53},{"$f":"'Záznamy hry'!E52","v":0},{"$f":"'Záznamy hry'!F52","v":94},{"$f":"'Záznamy hry'!G52","v":44},{"$f":"'Záznamy hry'!H52","v":1},{"$f":"'Záznamy hry'!I52","v":97},{"$f":"'Záznamy hry'!J52","v":54},{"$f":"'Záznamy hry'!K52","v":0},{"$f":"'Záznamy hry'!L52","v":87},{"$f":"'Záznamy hry'!M52","v":50},{"$f":"'Záznamy hry'!N52","v":1},{"$f":"C9+F9+I9+L9","v":376},{"$f":"D9+G9+J9+M9","v":201},{"$f":"E9+H9+K9+N9","v":2},{"$f":"O9+P9","v":577}]
["8.",{"$f":"'Záznamy hry'!B57","v":"Smažík Karel"},{"$f":"'Záznamy hry'!C57","v":97},{"$f":"'Záznamy hry'!D57","v":54},{"$f":"'Záznamy hry'!E57","v":0},{"$f":"'Záznamy hry'!F57","v":84},{"$f":"'Záznamy hry'!G57","v":54},{"$f":"'Záznamy hry'!H57","v":2},{"$f":"'Záznamy hry'!I57","v":97},{"$f":"'Záznamy hry'!J57","v":52},{"$f":"'Záznamy hry'!K57","v":1},{"$f":"'Záznamy hry'!L57","v":93},{"$f":"'Záznamy hry'!M57","v":45},{"$f":"'Záznamy hry'!N57","v":0},{"$f":"C10+F10+I10+L10","v":371},{"$f":"D10+G10+J10+M10","v":205},{"$f":"E10+H10+K10+N10","v":3},{"$f":"O10+P10","v":576}]
["9.",{"$f":"'Záznamy hry'!B7","v":"Ouhel Jiří ."},{"$f":"'Záznamy hry'!C7","v":95},{"$f":"'Záznamy hry'!D7","v":45},{"$f":"'Záznamy hry'!E7","v":2},{"$f":"'Záznamy hry'!F7","v":99},{"$f":"'Záznamy hry'!G7","v":35},{"$f":"'Záznamy hry'!H7","v":3},{"$f":"'Záznamy hry'!I7","v":97},{"$f":"'Záznamy hry'!J7","v":54},{"$f":"'Záznamy hry'!K7","v":1},{"$f":"'Záznamy hry'!L7","v":91},{"$f":"'Záznamy hry'!M7","v":58},{"$f":"'Záznamy hry'!N7","v":0},{"$f":"C11+F11+I11+L11","v":382},{"$f":"D11+G11+J11+M11","v":192},{"$f":"E11+H11+K11+N11","v":6},{"$f":"O11+P11","v":574}]
["10.",{"$f":"'Záznamy hry'!B51","v":"Kášek David"},{"$f":"'Záznamy hry'!C51","v":96},{"$f":"'Záznamy hry'!D51","v":48},{"$f":"'Záznamy hry'!E51","v":1},{"$f":"'Záznamy hry'!F51","v":106},{"$f":"'Záznamy hry'!G51","v":53},{"$f":"'Záznamy hry'!H51","v":1},{"$f":"'Záznamy hry'!I51","v":88},{"$f":"'Záznamy hry'!J51","v":44},{"$f":"'Záznamy hry'!K51","v":0},{"$f":"'Záznamy hry'!L51","v":94},{"$f":"'Záznamy hry'!M51","v":43},{"$f":"'Záznamy hry'!N51","v":2},{"$f":"C12+F12+I12+L12","v":384},{"$f":"D12+G12+J12+M12","v":188},{"$f":"E12+H12+K12+N12","v":4},{"$f":"O12+P12","v":572}]
["11.",{"$f":"'Záznamy hry'!B59","v":"Soukup Martin"},{"$f":"'Záznamy hry'!C59","v":109},{"$f":"'Záznamy hry'!D59","v":53},{"$f":"'Záznamy hry'!E59","v":2},{"$f":"'Záznamy hry'!F59","v":96},{"$f":"'Záznamy hry'!G59","v":35},{"$f":"'Záznamy hry'!H59","v":4},{"$f":"'Záznamy hry'!I59","v":87},{"$f":"'Záznamy hry'!J59","v":44},{"$f":"'Záznamy hry'!K59","v":0},{"$f":"'Záznamy hry'!L59","v":95},{"$f":"'Záznamy hry'!M59","v":45},{"$f":"'Záznamy hry'!N59","v":0},{"$f":"C13+F13+I13+L13","v":387},{"$f":"D13+G13+J13+M13","v":177},{"$f":"E13+H13+K13+N13","v":6},{"$f":"O13+P13","v":564}]
["12.",{"$f":"'Záznamy hry'!B58","v":"Jelínek Bořivoj"},{"$f":"'Záznamy hry'!C58","v":97},{"$f":"'Záznamy hry'!D58","v":52},{"$f":"'Záznamy hry'!E58","v":1},{"$f":"'Záznamy hry'!F58","v":100},{"$f":"'Záznamy hry'!G58","v":42},{"$f":"'Záznamy hry'!H58","v":1},{"$f":"'Záznamy hry'!I58","v":89},{"$f":"'Záznamy hry'!J58","v":45},{"$f":"'Záznamy hry'!K58","v":0},{"$f":"'Záznamy hry'!L58","v":83},{"$f":"'Záznamy hry'!M58","v":52},{"$f":"'Záznamy hry'!N58","v":2},{"$f":"C14+F14+I14+L14","v":369},{"$f":"D14+G14+J14+M14","v":191},{"$f":"E14+H14+K14+N14","v":4},{"$f":"O14+P14","v":560}]
["13.",{"$f":"'Záznamy hry'!B42","v":"Makovec Pavel"},{"$f":"'Záznamy hry'!C42","v":85},{"$f":"'Záznamy hry'!D42","v":60},{"$f":"'Záznamy hry'!E42","v":1},{"$f":"'Záznamy hry'!F42","v":88},{"$f":"'Záznamy hry'!G42","v":51},{"$f":"'Záznamy hry'!H42","v":0},{"$f":"'Záznamy hry'!I42","v":88},{"$f":"'Záznamy hry'!J42","v":54},{"$f":"'Záznamy hry'!K42","v":0},{"$f":"'Záznamy hry'!L42","v":90},{"$f":"'Záznamy hry'!M42","v":43},{"$f":"'Záznamy hry'!N42","v":0},{"$f":"C15+F15+I15+L15","v":351},{"$f":"D15+G15+J15+M15","v":208},{"$f":"E15+H15+K15+N15","v":1},{"$f":"O15+P15","v":559}]
["14.",{"$f":"'Záznamy hry'!B10","v":"Ouhel Jakub"},{"$f":"'Záznamy hry'!C10","v":88},{"$f":"'Záznamy hry'!D10","v":44},{"$f":"'Záznamy hry'!E10","v":0},{"$f":"'Záznamy hry'!F10","v":99},{"$f":"'Záznamy hry'!G10","v":45},{"$f":"'Záznamy hry'!H10","v":2},{"$f":"'Záznamy hry'!I10","v":94},{"$f":"'Záznamy hry'!J10","v":54},{"$f":"'Záznamy hry'!K10","v":0},{"$f":"'Záznamy hry'!L10","v":94},{"$f":"'Záznamy hry'!M10","v":41},{"$f":"'Záznamy hry'!N10","v":2},{"$f":"C16+F16+I16+L16","v":375},{"$f":"D16+G16+J16+M16","v":184},{"$f":"E16+H16+K16+N16","v":4},{"$f":"O16+P16","v":559}]
["15.",{"$f":"'Záznamy hry'!B54","v":"Bystřický Petr"},{"$f":"'Záznamy hry'!C54","v":91},{"$f":"'Záznamy hry'!D54","v":53},{"$f":"'Záznamy hry'!E54","v":1},{"$f":"'Záznamy hry'!F54","v":99},{"$f":"'Záznamy hry'!G54","v":51},{"$f":"'Záznamy hry'!H54","v":2},{"$f":"'Záznamy hry'!I54","v":87},{"$f":"'Záznamy hry'!J54","v":42},{"$f":"'Záznamy hry'!K54","v":1},{"$f":"'Záznamy hry'!L54","v":93},{"$f":"'Záznamy hry'!M54","v":42},{"$f":"'Záznamy hry'!N54","v":0},{"$f":"C17+F17+I17+L17","v":370},{"$f":"D17+G17+J17+M17","v":188},{"$f":"E17+H17+K17+N17","v":4},{"$f":"O17+P17","v":558}]
["16.",{"$f":"'Záznamy hry'!B24","v":"Dvořák Miroslav"},{"$f":"'Záznamy hry'!C24","v":100},{"$f":"'Záznamy hry'!D24","v":68},{"$f":"'Záznamy hry'!E24","v":0},{"$f":"'Záznamy hry'!F24","v":95},{"$f":"'Záznamy hry'!G24","v":41},{"$f":"'Záznamy hry'!H24","v":2},{"$f":"'Záznamy hry'!I24","v":94},{"$f":"'Záznamy hry'!J24","v":35},{"$f":"'Záznamy hry'!K24","v":2},{"$f":"'Záznamy hry'!L24","v":82},{"$f":"'Záznamy hry'!M24","v":43},{"$f":"'Záznamy hry'!N24","v":2},{"$f":"C18+F18+I18+L18","v":371},{"$f":"D18+G18+J18+M18","v":187},{"$f":"E18+H18+K18+N18","v":6},{"$f":"O18+P18","v":558}]
["17.",{"$f":"'Záznamy hry'!B25","v":"Dvořák Zbyněk"},{"$f":"'Záznamy hry'!C25","v":91},{"$f":"'Záznamy hry'!D25","v":45},{"$f":"'Záznamy hry'!E25","v":1},{"$f":"'Záznamy hry'!F25","v":102},{"$f":"'Záznamy hry'!G25","v":44},{"$f":"'Záznamy hry'!H25","v":1},{"$f":"'Záznamy hry'!I25","v":83},{"$f":"'Záznamy hry'!J25","v":50},{"$f":"'Záznamy hry'!K25","v":1},{"$f":"'Záznamy hry'!L25","v":96},{"$f":"'Záznamy hry'!M25","v":44},{"$f":"'Záznamy hry'!N25","v":0},{"$f":"C19+F19+I19+L19","v":372},{"$f":"D19+G19+J19+M19","v":183},{"$f":"E19+H19+K19+N19","v":3},{"$f":"O19+P19","v":555}]
["18.",{"$f":"'Záznamy hry'!B81","v":"Mertlová Petra"},{"$f":"'Záznamy hry'!C81","v":93},{"$f":"'Záznamy hry'!D81","v":27},{"$f":"'Záznamy hry'!E81","v":5},{"$f":"'Záznamy hry'!F81","v":84},{"$f":"'Záznamy hry'!G81","v":52},{"$f":"'Záznamy hry'!H81","v":1},{"$f":"'Záznamy hry'!I81","v":99},{"$f":"'Záznamy hry'!J81","v":45},{"$f":"'Záznamy hry'!K81","v":2},{"$f":"'Záznamy hry'!L81","v":100},{"$f":"'Záznamy hry'!M81","v":52},{"$f":"'Záznamy hry'!N81","v":0},{"$f":"C20+F20+I20+L20","v":376},{"$f":"D20+G20+J20+M20","v":176},{"$f":"E20+H20+K20+N20","v":8},{"$f":"O20+P20","v":552}]
["19.",{"$f":"'Záznamy hry'!B79","v":"Chvátal Marek"},{"$f":"'Záznamy hry'!C79","v":94},{"$f":"'Záznamy hry'!D79","v":45},{"$f":"'Záznamy hry'!E79","v":3},{"$f":"'Záznamy hry'!F79","v":99},{"$f":"'Záznamy hry'!G79","v":43},{"$f":"'Záznamy hry'!H79","v":1},{"$f":"'Záznamy hry'!I79","v":95},{"$f":"'Záznamy hry'!J79","v":36},{"$f":"'Záznamy hry'!K79","v":1},{"$f":"'Záznamy hry'!L79","v":93},{"$f":"'Záznamy hry'!M79","v":45},{"$f":"'Záznamy hry'!N79","v":1},{"$f":"C21+F21+I21+L21","v":381},{"$f":"D21+G21+J21+M21","v":169},{"$f":"E21+H21+K21+N21","v":6},{"$f":"O21+P21","v":550}]
["20.",{"$f":"'Záznamy hry'!B4","v":"Fořter Jan"},{"$f":"'Záznamy hry'!C4","v":92},{"$f":"'Záznamy hry'!D4","v":50},{"$f":"'Záznamy hry'!E4","v":2},{"$f":"'Záznamy hry'!F4","v":91},{"$f":"'Záznamy hry'!G4","v":54},{"$f":"'Záznamy hry'!H4","v":2},{"$f":"'Záznamy hry'!I4","v":90},{"$f":"'Záznamy hry'!J4","v":45},{"$f":"'Záznamy hry'!K4","v":1},{"$f":"'Záznamy hry'!L4","v":96},{"$f":"'Záznamy hry'!M4","v":31},{"$f":"'Záznamy hry'!N4","v":2},{"$f":"C22+F22+I22+L22","v":369},{"$f":"D22+G22+J22+M22","v":180},{"$f":"E22+H22+K22+N22","v":7},{"$f":"O22+P22","v":549}]
["21.",{"$f":"'Záznamy hry'!B3","v":"Hein Zbyněk"},{"$f":"'Záznamy hry'!C3","v":87},{"$f":"'Záznamy hry'!D3","v":36},{"$f":"'Záznamy hry'!E3","v":2},{"$f":"'Záznamy hry'!F3","v":100},{"$f":"'Záznamy hry'!G3","v":52},{"$f":"'Záznamy hry'!H3","v":1},{"$f":"'Záznamy hry'!I3","v":94},{"$f":"'Záznamy hry'!J3","v":42},{"$f":"'Záznamy hry'!K3","v":1},{"$f":"'Záznamy hry'!L3","v":93},{"$f":"'Záznamy hry'!M3","v":45},{"$f":"'Záznamy hry'!N3","v":3},{"$f":"C23+F23+I23+L23","v":374},{"$f":"D23+G23+J23+M23","v":175},{"$f":"E23+H23+K23+N23","v":7},{"$f":"O23+P23","v":549}]
["22.",{"$f":"'Záznamy hry'!B80","v":"Pýchová Barbora"},{"$f":"'Záznamy hry'!C80","v":87},{"$f":"'Záznamy hry'!D80","v":44},{"$f":"'Záznamy hry'!E80","v":1},{"$f":"'Záznamy hry'!F80","v":92},{"$f":"'Záznamy hry'!G80","v":53},{"$f":"'Záznamy hry'!H80","v":2},{"$f":"'Záznamy hry'!I80","v":101},{"$f":"'Záznamy hry'!J80","v":44},{"$f":"'Záznamy hry'!K80","v":0},{"$f":"'Záznamy hry'!L80","v":83},{"$f":"'Záznamy hry'!M80","v":43},{"$f":"'Záznamy hry'!N80","v":1},{"$f":"C24+F24+I24+L24","v":363},{"$f":"D24+G24+J24+M24","v":184},{"$f":"E24+H24+K24+N24","v":4},{"$f":"O24+P24","v":547}]
["23.",{"$f":"'Záznamy hry'!B56","v":"Chval Petr"},{"$f":"'Záznamy hry'!C56","v":89},{"$f":"'Záznamy hry'!D56","v":53},{"$f":"'Záznamy hry'!E56","v":1},{"$f":"'Záznamy hry'!F56","v":85},{"$f":"'Záznamy hry'!G56","v":45},{"$f":"'Záznamy hry'!H56","v":1},{"$f":"'Záznamy hry'!I56","v":92},{"$f":"'Záznamy hry'!J56","v":42},{"$f":"'Záznamy hry'!K56","v":1},{"$f":"'Záznamy hry'!L56","v":103},{"$f":"'Záznamy hry'!M56","v":36},{"$f":"'Záznamy hry'!N56","v":0},{"$f":"C25+F25+I25+L25","v":369},{"$f":"D25+G25+J25+M25","v":176},{"$f":"E25+H25+K25+N25","v":3},{"$f":"O25+P25","v":545}]
["24.",{"$f":"'Záznamy hry'!B31","v":"Kobliha Vítek"},{"$f":"'Záznamy hry'!C31","v":88},{"$f":"'Záznamy hry'!D31","v":36},{"$f":"'Záznamy hry'!E31","v":1},{"$f":"'Záznamy hry'!F31","v":89},{"$f":"'Záznamy hry'!G31","v":52},{"$f":"'Záznamy hry'!H31","v":1},{"$f":"'Záznamy hry'!I31","v":88},{"$f":"'Záznamy hry'!J31","v":54},{"$f":"'Záznamy hry'!K31","v":0},{"$f":"'Záznamy hry'!L31","v":88},{"$f":"'Záznamy hry'!M31","v":49},{"$f":"'Záznamy hry'!N31","v":0},{"$f":"C26+F26+I26+L26","v":353},{"$f":"D26+G26+J26+M26","v":191},{"$f":"E26+H26+K26+N26","v":2},{"$f":"O26+P26","v":544}]
["25.",{"$f":"'Záznamy hry'!B27","v":"Vrbík Pavel"},{"$f":"'Záznamy hry'!C27","v":89},{"$f":"'Záznamy hry'!D27","v":51},{"$f":"'Záznamy hry'!E27","v":2},{"$f":"'Záznamy hry'!F27","v":86},{"$f":"'Záznamy hry'!G27","v":60},{"$f":"'Záznamy hry'!H27","v":0},{"$f":"'Záznamy hry'!I27","v":89},{"$f":"'Záznamy hry'!J27","v":41},{"$f":"'Záznamy hry'!K27","v":0},{"$f":"'Záznamy hry'!L27","v":92},{"$f":"'Záznamy hry'!M27","v":35},{"$f":"'Záznamy hry'!N27","v":1},{"$f":"C27+F27+I27+L27","v":356},{"$f":"D27+G27+J27+M27","v":187},{"$f":"E27+H27+K27+N27","v":3},{"$f":"O27+P27","v":543}]
["26.",{"$f":"'Záznamy hry'!B39","v":"Křemen Petr"},{"$f":"'Záznamy hry'!C39","v":82},{"$f":"'Záznamy hry'!D39","v":45},{"$f":"'Záznamy hry'!E39","v":1},{"$f":"'Záznamy hry'!F39","v":100},{"$f":"'Záznamy hry'!G39","v":44},{"$f":"'Záznamy hry'!H39","v":0},{"$f":"'Záznamy hry'!I39","v":96},{"$f":"'Záznamy hry'!J39","v":43},{"$f":"'Záznamy hry'!K39","v":3},{"$f":"'Záznamy hry'!L39","v":89},{"$f":"'Záznamy hry'!M39","v":41},{"$f":"'Záznamy hry'!N39","v":1},{"$f":"C28+F28+I28+L28","v":367},{"$f":"D28+G28+J28+M28","v":173},{"$f":"E28+H28+K28+N28","v":5},{"$f":"O28+P28","v":540}]
["27.",{"$f":"'Záznamy hry'!B63","v":"Korecká Jitka"},{"$f":"'Záznamy hry'!C63","v":83},{"$f":"'Záznamy hry'!D63","v":49},{"$f":"'Záznamy hry'!E63","v":0},{"$f":"'Záznamy hry'!F63","v":98},{"$f":"'Záznamy hry'!G63","v":36},{"$f":"'Záznamy hry'!H63","v":2},{"$f":"'Záznamy hry'!I63","v":99},{"$f":"'Záznamy hry'!J63","v":43},{"$f":"'Záznamy hry'!K63","v":1},{"$f":"'Záznamy hry'!L63","v":88},{"$f":"'Záznamy hry'!M63","v":44},{"$f":"'Záznamy hry'!N63","v":0},{"$f":"C29+F29+I29+L29","v":368},{"$f":"D29+G29+J29+M29","v":172},{"$f":"E29+H29+K29+N29","v":3},{"$f":"O29+P29","v":540}]
["28.",{"$f":"'Záznamy hry'!B8","v":"Dúška Karel"},{"$f":"'Záznamy hry'!C8","v":86},{"$f":"'Záznamy hry'!D8","v":36},{"$f":"'Záznamy hry'!E8","v":0},{"$f":"'Záznamy hry'!F8","v":95},{"$f":"'Záznamy hry'!G8","v":50},{"$f":"'Záznamy hry'!H8","v":1},{"$f":"'Záznamy hry'!I8","v":88},{"$f":"'Záznamy hry'!J8","v":52},{"$f":"'Záznamy hry'!K8","v":1},{"$f":"'Záznamy hry'!L8","v":88},{"$f":"'Záznamy hry'!M8","v":44},{"$f":"'Záznamy hry'!N8","v":0},{"$f":"C30+F30+I30+L30","v":357},{"$f":"D30+G30+J30+M30","v":182},{"$f":"E30+H30+K30+N30","v":2},{"$f":"O30+P30","v":539}]
["29.",{"$f":"'Záznamy hry'!B66","v":"Nedomová Drahomíra"},{"$f":"'Záznamy hry'!C66","v":94},{"$f":"'Záznamy hry'!D66","v":35},{"$f":"'Záznamy hry'!E66","v":5},{"$f":"'Záznamy hry'!F66","v":87},{"$f":"'Záznamy hry'!G66","v":43},{"$f":"'Záznamy hry'!H66","v":1},{"$f":"'Záznamy hry'!I66","v":102},{"$f":"'Záznamy hry'!J66","v":45},{"$f":"'Záznamy hry'!K66","v":1},{"$f":"'Záznamy hry'!L66","v":97},{"$f":"'Záznamy hry'!M66","v":36},{"$f":"'Záznamy hry'!N66","v":2},{"$f":"C31+F31+I31+L31","v":380},{"$f":"D31+G31+J31+M31","v":159},{"$f":"E31+H31+K31+N31","v":9},{"$f":"O31+P31","v":539}]
["30.",{"$f":"'Záznamy hry'!B65","v":"Koubek Karel"},{"$f":"'Záznamy hry'!C65","v":91},{"$f":"'Záznamy hry'!D65","v":45},{"$f":"'Záznamy hry'!E65","v":1},{"$f":"'Záznamy hry'!F65","v":105},{"$f":"'Záznamy hry'!G65","v":35},{"$f":"'Záznamy hry'!H65","v":3},{"$f":"'Záznamy hry'!I65","v":83},{"$f":"'Záznamy hry'!J65","v":54},{"$f":"'Záznamy hry'!K65","v":0},{"$f":"'Záznamy hry'!L65","v":89},{"$f":"'Záznamy hry'!M65","v":35},{"$f":"'Záznamy hry'!N65","v":3},{"$f":"C32+F32+I32+L32","v":368},{"$f":"D32+G32+J32+M32","v":169},{"$f":"E32+H32+K32+N32","v":7},{"$f":"O32+P32","v":537}]
["31.",{"$f":"'Záznamy hry'!B44","v":"Zeman Zdeněk"},{"$f":"'Záznamy hry'!C44","v":94},{"$f":"'Záznamy hry'!D44","v":53},{"$f":"'Záznamy hry'!E44","v":1},{"$f":"'Záznamy hry'!F44","v":91},{"$f":"'Záznamy hry'!G44","v":47},{"$f":"'Záznamy hry'!H44","v":0},{"$f":"'Záznamy hry'!I44","v":80},{"$f":"'Záznamy hry'!J44","v":43},{"$f":"'Záznamy hry'!K44","v":0},{"$f":"'Záznamy hry'!L44","v":87},{"$f":"'Záznamy hry'!M44","v":39},{"$f":"'Záznamy hry'!N44","v":1},{"$f":"C33+F33+I33+L33","v":352},{"$f":"D33+G33+J33+M33","v":182},{"$f":"E33+H33+K33+N33","v":2},{"$f":"O33+P33","v":534}]
["32.",{"$f":"'Záznamy hry'!B19","v":"Svačina Jiří"},{"$f":"'Záznamy hry'!C19","v":88},{"$f":"'Záznamy hry'!D19","v":45},{"$f":"'Záznamy hry'!E19","v":0},{"$f":"'Záznamy hry'!F19","v":84},{"$f":"'Záznamy hry'!G19","v":51},{"$f":"'Záznamy hry'!H19","v":0},{"$f":"'Záznamy hry'!I19","v":84},{"$f":"'Záznamy hry'!J19","v":44},{"$f":"'Záznamy hry'!K19","v":1},{"$f":"'Záznamy hry'!L19","v":84},{"$f":"'Záznamy hry'!M19","v":53},{"$f":"'Záznamy hry'!N19","v":1},{"$f":"C34+F34+I34+L34","v":340},{"$f":"D34+G34+J34+M34","v":193},{"$f":"E34+H34+K34+N34","v":2},{"$f":"O34+P34","v":533}]
["33.",{"$f":"'Záznamy hry'!B46","v":"Kořínek Pavel"},{"$f":"'Záznamy hry'!C46","v":108},{"$f":"'Záznamy hry'!D46","v":34},{"$f":"'Záznamy hry'!E46","v":3},{"$f":"'Záznamy hry'!F46","v":94},{"$f":"'Záznamy hry'!G46","v":26},{"$f":"'Záznamy hry'!H46","v":5},{"$f":"'Záznamy hry'!I46","v":89},{"$f":"'Záznamy hry'!J46","v":51},{"$f":"'Záznamy hry'!K46","v":1},{"$f":"'Záznamy hry'!L46","v":95},{"$f":"'Záznamy hry'!M46","v":36},{"$f":"'Záznamy hry'!N46","v":2},{"$f":"C35+F35+I35+L35","v":386},{"$f":"D35+G35+J35+M35","v":147},{"$f":"E35+H35+K35+N35","v":11},{"$f":"O35+P35","v":533}]
["34.",{"$f":"'Záznamy hry'!B49","v":"Štefan Jan"},{"$f":"'Záznamy hry'!C49","v":99},{"$f":"'Záznamy hry'!D49","v":35},{"$f":"'Záznamy hry'!E49","v":2},{"$f":"'Záznamy hry'!F49","v":80},{"$f":"'Záznamy hry'!G49","v":51},{"$f":"'Záznamy hry'!H49","v":1},{"$f":"'Záznamy hry'!I49","v":89},{"$f":"'Záznamy hry'!J49","v":36},{"$f":"'Záznamy hry'!K49","v":0},{"$f":"'Záznamy hry'!L49","v":89},{"$f":"'Záznamy hry'!M49","v":53},{"$f":"'Záznamy hry'!N49","v":0},{"$f":"C36+F36+I36+L36","v":357},{"$f":"D36+G36+J36+M36","v":175},{"$f":"E36+H36+K36+N36","v":3},{"$f":"O36+P36","v":532}]
["35.",{"$f":"'Záznamy hry'!B29","v":"Mikuláštík Michal"},{"$f":"'Záznamy hry'!C29","v":88},{"$f":"'Záznamy hry'!D29","v":32},{"$f":"'Záznamy hry'!E29","v":6},{"$f":"'Záznamy hry'!F29","v":104},{"$f":"'Záznamy hry'!G29","v":54},{"$f":"'Záznamy hry'!H29","v":0},{"$f":"'Záznamy hry'!I29","v":86},{"$f":"'Záznamy hry'!J29","v":33},{"$f":"'Záznamy hry'!K29","v":3},{"$f":"'Záznamy hry'!L29","v":99},{"$f":"'Záznamy hry'!M29","v":35},{"$f":"'Záznamy hry'!N29","v":3},{"$f":"C37+F37+I37+L37","v":377},{"$f":"D37+G37+J37+M37","v":154},{"$f":"E37+H37+K37+N37","v":12},{"$f":"O37+P37","v":531}]
["36.",{"$f":"'Záznamy hry'!B6","v":"Bartoň Jan"},{"$f":"'Záznamy hry'!C6","v":97},{"$f":"'Záznamy hry'!D6","v":32},{"$f":"'Záznamy hry'!E6","v":3},{"$f":"'Záznamy hry'!F6","v":91},{"$f":"'Záznamy hry'!G6","v":40},{"$f":"'Záznamy hry'!H6","v":2},{"$f":"'Záznamy hry'!I6","v":86},{"$f":"'Záznamy hry'!J6","v":45},{"$f":"'Záznamy hry'!K6","v":1},{"$f":"'Záznamy hry'!L6","v":95},{"$f":"'Záznamy hry'!M6","v":43},{"$f":"'Záznamy hry'!N6","v":0},{"$f":"C38+F38+I38+L38","v":369},{"$f":"D38+G38+J38+M38","v":160},{"$f":"E38+H38+K38+N38","v":6},{"$f":"O38+P38","v":529}]
["37.",{"$f":"'Záznamy hry'!B77","v":"Návarová Věra"},{"$f":"'Záznamy hry'!C77","v":88},{"$f":"'Záznamy hry'!D77","v":50},{"$f":"'Záznamy hry'!E77","v":2},{"$f":"'Záznamy hry'!F77","v":84},{"$f":"'Záznamy hry'!G77","v":45},{"$f":"'Záznamy hry'!H77","v":1},{"$f":"'Záznamy hry'!I77","v":97},{"$f":"'Záznamy hry'!J77","v":34},{"$f":"'Záznamy hry'!K77","v":2},{"$f":"'Záznamy hry'!L77","v":88},{"$f":"'Záznamy hry'!M77","v":42},{"$f":"'Záznamy hry'!N77","v":2},{"$f":"C39+F39+I39+L39","v":357},{"$f":"D39+G39+J39+M39","v":171},{"$f":"E39+H39+K39+N39","v":7},{"$f":"O39+P39","v":528}]
["38.",{"$f":"'Záznamy hry'!B71","v":"Vychodil Jaroslav"},{"$f":"'Záznamy hry'!C71","v":84},{"$f":"'Záznamy hry'!D71","v":43},{"$f":"'Záznamy hry'!E71","v":0},{"$f":"'Záznamy hry'!F71","v":79},{"$f":"'Záznamy hry'!G71","v":44},{"$f":"'Záznamy hry'!H71","v":2},{"$f":"'Záznamy hry'!I71","v":91},{"$f":"'Záznamy hry'!J71","v":35},{"$f":"'Záznamy hry'!K71","v":1},{"$f":"'Záznamy hry'!L71","v":97},{"$f":"'Záznamy hry'!M71","v":54},{"$f":"'Záznamy hry'!N71","v":0},{"$f":"C40+F40+I40+L40","v":351},{"$f":"D40+G40+J40+M40","v":176},{"$f":"E40+H40+K40+N40","v":3},{"$f":"O40+P40","v":527}]
["39.",{"$f":"'Záznamy hry'!B60","v":"Šimková Jitka"},{"$f":"'Záznamy hry'!C60","v":91},{"$f":"'Záznamy hry'!D60","v":54},{"$f":"'Záznamy hry'!E60","v":1},{"$f":"'Záznamy hry'!F60","v":82},{"$f":"'Záznamy hry'!G60","v":45},{"$f":"'Záznamy hry'!H60","v":1},{"$f":"'Záznamy hry'!I60","v":87},{"$f":"'Záznamy hry'!J60","v":31},{"$f":"'Záznamy hry'!K60","v":4},{"$f":"'Záznamy hry'!L60","v":85},{"$f":"'Záznamy hry'!M60","v":51},{"$f":"'Záznamy hry'!N60","v":2},{"$f":"C41+F41+I41+L41","v":345},{"$f":"D41+G41+J41+M41","v":181},{"$f":"E41+H41+K41+N41","v":8},{"$f":"O41+P41","v":526}]
["40.",{"$f":"'Záznamy hry'!B5","v":"Hrstka Libor"},{"$f":"'Záznamy hry'!C5","v":85},{"$f":"'Záznamy hry'!D5","v":41},{"$f":"'Záznamy hry'!E5","v":1},{"$f":"'Záznamy hry'!F5","v":88},{"$f":"'Záznamy hry'!G5","v":53},{"$f":"'Záznamy hry'!H5","v":3},{"$f":"'Záznamy hry'!I5","v":88},{"$f":"'Záznamy hry'!J5","v":52},{"$f":"'Záznamy hry'!K5","v":0},{"$f":"'Záznamy hry'!L5","v":86},{"$f":"'Záznamy hry'!M5","v":32},{"$f":"'Záznamy hry'!N5","v":3},{"$f":"C42+F42+I42+L42","v":347},{"$f":"D42+G42+J42+M42","v":178},{"$f":"E42+H42+K42+N42","v":7},{"$f":"O42+P42","v":525}]
["41.",{"$f":"'Záznamy hry'!B53","v":"Roubek Oldřich"},{"$f":"'Záznamy hry'!C53","v":81},{"$f":"'Záznamy hry'!D53","v":44},{"$f":"'Záznamy hry'!E53","v":2},{"$f":"'Záznamy hry'!F53","v":93},{"$f":"'Záznamy hry'!G53","v":54},{"$f":"'Záznamy hry'!H53","v":1},{"$f":"'Záznamy hry'!I53","v":84},{"$f":"'Záznamy hry'!J53","v":44},{"$f":"'Záznamy hry'!K53","v":0},{"$f":"'Záznamy hry'!L53","v":93},{"$f":"'Záznamy hry'!M53","v":32},{"$f":"'Záznamy hry'!N53","v":2},{"$f":"C43+F43+I43+L43","v":351},{"$f":"D43+G43+J43+M43","v":174},{"$f":"E43+H43+K43+N43","v":5},{"$f":"O43+P43","v":525}]
["42.",{"$f":"'Záznamy hry'!B62","v":"Malovaný Jiří"},{"$f":"'Záznamy hry'!C62","v":93},{"$f":"'Záznamy hry'!D62","v":34},{"$f":"'Záznamy hry'!E62","v":1},{"$f":"'Záznamy hry'!F62","v":85},{"$f":"'Záznamy hry'!G62","v":57},{"$f":"'Záznamy hry'!H62","v":1},{"$f":"'Záznamy hry'!I62","v":85},{"$f":"'Záznamy hry'!J62","v":43},{"$f":"'Záznamy hry'!K62","v":2},{"$f":"'Záznamy hry'!L62","v":94},{"$f":"'Záznamy hry'!M62","v":34},{"$f":"'Záznamy hry'!N62","v":4},{"$f":"C44+F44+I44+L44","v":357},{"$f":"D44+G44+J44+M44","v":168},{"$f":"E44+H44+K44+N44","v":8},{"$f":"O44+P44","v":525}]
["43.",{"$f":"'Záznamy hry'!B50","v":"Kopic Jindra"},{"$f":"'Záznamy hry'!C50","v":92},{"$f":"'Záznamy hry'!D50","v":36},{"$f":"'Záznamy hry'!E50","v":3},{"$f":"'Záznamy hry'!F50","v":82},{"$f":"'Záznamy hry'!G50","v":40},{"$f":"'Záznamy hry'!H50","v":1},{"$f":"'Záznamy hry'!I50","v":91},{"$f":"'Záznamy hry'!J50","v":51},{"$f":"'Záznamy hry'!K50","v":0},{"$f":"'Záznamy hry'!L50","v":97},{"$f":"'Záznamy hry'!M50","v":36},{"$f":"'Záznamy hry'!N50","v":2},{"$f":"C45+F45+I45+L45","v":362},{"$f":"D45+G45+J45+M45","v":163},{"$f":"E45+H45+K45+N45","v":6},{"$f":"O45+P45","v":525}]
["44.",{"$f":"'Záznamy hry'!B61","v":"Siebenbrunner Čestm."},{"$f":"'Záznamy hry'!C61","v":80},{"$f":"'Záznamy hry'!D61","v":49},{"$f":"'Záznamy hry'!E61","v":0},{"$f":"'Záznamy hry'!F61","v":98},{"$f":"'Záznamy hry'!G61","v":27},{"$f":"'Záznamy hry'!H61","v":2},{"$f":"'Záznamy hry'!I61","v":89},{"$f":"'Záznamy hry'!J61","v":51},{"$f":"'Záznamy hry'!K61","v":2},{"$f":"'Záznamy hry'!L61","v":97},{"$f":"'Záznamy hry'!M61","v":34},{"$f":"'Záznamy hry'!N61","v":3},{"$f":"C46+F46+I46+L46","v":364},{"$f":"D46+G46+J46+M46","v":161},{"$f":"E46+H46+K46+N46","v":7},{"$f":"O46+P46","v":525}]
["45.",{"$f":"'Záznamy hry'!B21","v":"Svatošová Iva"},{"$f":"'Záznamy hry'!C21","v":107},{"$f":"'Záznamy hry'!D21","v":44},{"$f":"'Záznamy hry'!E21","v":1},{"$f":"'Záznamy hry'!F21","v":95},{"$f":"'Záznamy hry'!G21","v":34},{"$f":"'Záznamy hry'!H21","v":2},{"$f":"'Záznamy hry'!I21","v":87},{"$f":"'Záznamy hry'!J21","v":45},{"$f":"'Záznamy hry'!K21","v":1},{"$f":"'Záznamy hry'!L21","v":78},{"$f":"'Záznamy hry'!M21","v":34},{"$f":"'Záznamy hry'!N21","v":2},{"$f":"C47+F47+I47+L47","v":367},{"$f":"D47+G47+J47+M47","v":157},{"$f":"E47+H47+K47+N47","v":6},{"$f":"O47+P47","v":524}]
["46.",{"$f":"'Záznamy hry'!B75","v":"Burdová Vendulka"},{"$f":"'Záznamy hry'!C75","v":86},{"$f":"'Záznamy hry'!D75","v":41},{"$f":"'Záznamy hry'!E75","v":3},{"$f":"'Záznamy hry'!F75","v":91},{"$f":"'Záznamy hry'!G75","v":53},{"$f":"'Záznamy hry'!H75","v":1},{"$f":"'Záznamy hry'!I75","v":80},{"$f":"'Záznamy hry'!J75","v":44},{"$f":"'Záznamy hry'!K75","v":3},{"$f":"'Záznamy hry'!L75","v":94},{"$f":"'Záznamy hry'!M75","v":33},{"$f":"'Záznamy hry'!N75","v":1},{"$f":"C48+F48+I48+L48","v":351},{"$f":"D48+G48+J48+M48","v":171},{"$f":"E48+H48+K48+N48","v":8},{"$f":"O48+P48","v":522}]
["47.",{"$f":"'Záznamy hry'!B45","v":"Klimek Petr"},{"$f":"'Záznamy hry'!C45","v":97},{"$f":"'Záznamy hry'!D45","v":33},{"$f":"'Záznamy hry'!E45","v":3},{"$f":"'Záznamy hry'!F45","v":90},{"$f":"'Záznamy hry'!G45","v":43},{"$f":"'Záznamy hry'!H45","v":2},{"$f":"'Záznamy hry'!I45","v":89},{"$f":"'Záznamy hry'!J45","v":36},{"$f":"'Záznamy hry'!K45","v":1},{"$f":"'Záznamy hry'!L45","v":87},{"$f":"'Záznamy hry'!M45","v":43},{"$f":"'Záznamy hry'!N45","v":1},{"$f":"C49+F49+I49+L49","v":363},{"$f":"D49+G49+J49+M49","v":155},{"$f":"E49+H49+K49+N49","v":7},{"$f":"O49+P49","v":518}]
["48.",{"$f":"'Záznamy hry'!B68","v":"Kroupová Daniela"},{"$f":"'Záznamy hry'!C68","v":85},{"$f":"'Záznamy hry'!D68","v":36},{"$f":"'Záznamy hry'!E68","v":3},{"$f":"'Záznamy hry'!F68","v":101},{"$f":"'Záznamy hry'!G68","v":44},{"$f":"'Záznamy hry'!H68","v":3},{"$f":"'Záznamy hry'!I68","v":91},{"$f":"'Záznamy hry'!J68","v":40},{"$f":"'Záznamy hry'!K68","v":2},{"$f":"'Záznamy hry'!L68","v":84},{"$f":"'Záznamy hry'!M68","v":35},{"$f":"'Záznamy hry'!N68","v":4},{"$f":"C50+F50+I50+L50","v":361},{"$f":"D50+G50+J50+M50","v":155},{"$f":"E50+H50+K50+N50","v":12},{"$f":"O50+P50","v":516}]
["49.",{"$f":"'Záznamy hry'!B40","v":"Makovcová Alena"},{"$f":"'Záznamy hry'!C40","v":92},{"$f":"'Záznamy hry'!D40","v":41},{"$f":"'Záznamy hry'!E40","v":3},{"$f":"'Záznamy hry'!F40","v":83},{"$f":"'Záznamy hry'!G40","v":52},{"$f":"'Záznamy hry'!H40","v":2},{"$f":"'Záznamy hry'!I40","v":92},{"$f":"'Záznamy hry'!J40","v":35},{"$f":"'Záznamy hry'!K40","v":4},{"$f":"'Záznamy hry'!L40","v":89},{"$f":"'Záznamy hry'!M40","v":31},{"$f":"'Záznamy hry'!N40","v":6},{"$f":"C51+F51+I51+L51","v":356},{"$f":"D51+G51+J51+M51","v":159},{"$f":"E51+H51+K51+N51","v":15},{"$f":"O51+P51","v":515}]
["50.",{"$f":"'Záznamy hry'!B48","v":"Chalaš Jaroslav"},{"$f":"'Záznamy hry'!C48","v":85},{"$f":"'Záznamy hry'!D48","v":44},{"$f":"'Záznamy hry'!E48","v":4},{"$f":"'Záznamy hry'!F48","v":99},{"$f":"'Záznamy hry'!G48","v":35},{"$f":"'Záznamy hry'!H48","v":2},{"$f":"'Záznamy hry'!I48","v":81},{"$f":"'Záznamy hry'!J48","v":49},{"$f":"'Záznamy hry'!K48","v":1},{"$f":"'Záznamy hry'!L48","v":84},{"$f":"'Záznamy hry'!M48","v":36},{"$f":"'Záznamy hry'!N48","v":4},{"$f":"C52+F52+I52+L52","v":349},{"$f":"D52+G52+J52+M52","v":164},{"$f":"E52+H52+K52+N52","v":11},{"$f":"O52+P52","v":513}]
["51.",{"$f":"'Záznamy hry'!B33","v":"Vokurka Jiří"},{"$f":"'Záznamy hry'!C33","v":96},{"$f":"'Záznamy hry'!D33","v":43},{"$f":"'Záznamy hry'!E33","v":1},{"$f":"'Záznamy hry'!F33","v":94},{"$f":"'Záznamy hry'!G33","v":35},{"$f":"'Záznamy hry'!H33","v":3},{"$f":"'Záznamy hry'!I33","v":83},{"$f":"'Záznamy hry'!J33","v":36},{"$f":"'Záznamy hry'!K33","v":3},{"$f":"'Záznamy hry'!L33","v":89},{"$f":"'Záznamy hry'!M33","v":36},{"$f":"'Záznamy hry'!N33","v":0},{"$f":"C53+F53+I53+L53","v":362},{"$f":"D53+G53+J53+M53","v":150},{"$f":"E53+H53+K53+N53","v":7},{"$f":"O53+P53","v":512}]
["52.",{"$f":"'Záznamy hry'!B34","v":"Mikeš Josef"},{"$f":"'Záznamy hry'!C34","v":84},{"$f":"'Záznamy hry'!D34","v":31},{"$f":"'Záznamy hry'!E34","v":3},{"$f":"'Záznamy hry'!F34","v":98},{"$f":"'Záznamy hry'!G34","v":43},{"$f":"'Záznamy hry'!H34","v":0},{"$f":"'Záznamy hry'!I34","v":99},{"$f":"'Záznamy hry'!J34","v":36},{"$f":"'Záznamy hry'!K34","v":1},{"$f":"'Záznamy hry'!L34","v":88},{"$f":"'Záznamy hry'!M34","v":33},{"$f":"'Záznamy hry'!N34","v":3},{"$f":"C54+F54+I54+L54","v":369},{"$f":"D54+G54+J54+M54","v":143},{"$f":"E54+H54+K54+N54","v":7},{"$f":"O54+P54","v":512}]
["53.",{"$f":"'Záznamy hry'!B78","v":"Kovandová Alena"},{"$f":"'Záznamy hry'!C78","v":84},{"$f":"'Záznamy hry'!D78","v":34},{"$f":"'Záznamy hry'!E78","v":2},{"$f":"'Záznamy hry'!F78","v":95},{"$f":"'Záznamy hry'!G78","v":36},{"$f":"'Záznamy hry'!H78","v":0},{"$f":"'Záznamy hry'!I78","v":84},{"$f":"'Záznamy hry'!J78","v":54},{"$f":"'Záznamy hry'!K78","v":2},{"$f":"'Záznamy hry'!L78","v":92},{"$f":"'Záznamy hry'!M78","v":32},{"$f":"'Záznamy hry'!N78","v":6},{"$f":"C55+F55+I55+L55","v":355},{"$f":"D55+G55+J55+M55","v":156},{"$f":"E55+H55+K55+N55","v":10},{"$f":"O55+P55","v":511}]
["54.",{"$f":"'Záznamy hry'!B26","v":"Dvořáková Kamila"},{"$f":"'Záznamy hry'!C26","v":86},{"$f":"'Záznamy hry'!D26","v":35},{"$f":"'Záznamy hry'!E26","v":1},{"$f":"'Záznamy hry'!F26","v":86},{"$f":"'Záznamy hry'!G26","v":40},{"$f":"'Záznamy hry'!H26","v":0},{"$f":"'Záznamy hry'!I26","v":88},{"$f":"'Záznamy hry'!J26","v":43},{"$f":"'Záznamy hry'!K26","v":2},{"$f":"'Záznamy hry'!L26","v":91},{"$f":"'Záznamy hry'!M26","v":41},{"$f":"'Záznamy hry'!N26","v":1},{"$f":"C56+F56+I56+L56","v":351},{"$f":"D56+G56+J56+M56","v":159},{"$f":"E56+H56+K56+N56","v":4},{"$f":"O56+P56","v":510}]
["55.",{"$f":"'Záznamy hry'!B12","v":"Novotný Jiří"},{"$f":"'Záznamy hry'!C12","v":88},{"$f":"'Záznamy hry'!D12","v":40},{"$f":"'Záznamy hry'!E12","v":3},{"$f":"'Záznamy hry'!F12","v":80},{"$f":"'Záznamy hry'!G12","v":44},{"$f":"'Záznamy hry'!H12","v":3},{"$f":"'Záznamy hry'!I12","v":89},{"$f":"'Záznamy hry'!J12","v":45},{"$f":"'Záznamy hry'!K12","v":2},{"$f":"'Záznamy hry'!L12","v":87},{"$f":"'Záznamy hry'!M12","v":36},{"$f":"'Záznamy hry'!N12","v":3},{"$f":"C57+F57+I57+L57","v":344},{"$f":"D57+G57+J57+M57","v":165},{"$f":"E57+H57+K57+N57","v":11},{"$f":"O57+P57","v":509}]
["56.",{"$f":"'Záznamy hry'!B32","v":"Kníže Stanislav"},{"$f":"'Záznamy hry'!C32","v":90},{"$f":"'Záznamy hry'!D32","v":27},{"$f":"'Záznamy hry'!E32","v":0},{"$f":"'Záznamy hry'!F32","v":84},{"$f":"'Záznamy hry'!G32","v":42},{"$f":"'Záznamy hry'!H32","v":4},{"$f":"'Záznamy hry'!I32","v":85},{"$f":"'Záznamy hry'!J32","v":51},{"$f":"'Záznamy hry'!K32","v":0},{"$f":"'Záznamy hry'!L32","v":87},{"$f":"'Záznamy hry'!M32","v":43},{"$f":"'Záznamy hry'!N32","v":2},{"$f":"C58+F58+I58+L58","v":346},{"$f":"D58+G58+J58+M58","v":163},{"$f":"E58+H58+K58+N58","v":6},{"$f":"O58+P58","v":509}]
["57.",{"$f":"'Záznamy hry'!B22","v":"Kučerová Gabriela"},{"$f":"'Záznamy hry'!C22","v":94},{"$f":"'Záznamy hry'!D22","v":45},{"$f":"'Záznamy hry'!E22","v":1},{"$f":"'Záznamy hry'!F22","v":89},{"$f":"'Záznamy hry'!G22","v":25},{"$f":"'Záznamy hry'!H22","v":3},{"$f":"'Záznamy hry'!I22","v":89},{"$f":"'Záznamy hry'!J22","v":44},{"$f":"'Záznamy hry'!K22","v":2},{"$f":"'Záznamy hry'!L22","v":81},{"$f":"'Záznamy hry'!M22","v":33},{"$f":"'Záznamy hry'!N22","v":3},{"$f":"C59+F59+I59+L59","v":353},{"$f":"D59+G59+J59+M59","v":147},{"$f":"E59+H59+K59+N59","v":9},{"$f":"O59+P59","v":500}]
["58.",{"$f":"'Záznamy hry'!B28","v":"Jelínek Dušan"},{"$f":"'Záznamy hry'!C28","v":87},{"$f":"'Záznamy hry'!D28","v":42},{"$f":"'Záznamy hry'!E28","v":1},{"$f":"'Záznamy hry'!F28","v":69},{"$f":"'Záznamy hry'!G28","v":35},{"$f":"'Záznamy hry'!H28","v":2},{"$f":"'Záznamy hry'!I28","v":78},{"$f":"'Záznamy hry'!J28","v":45},{"$f":"'Záznamy hry'!K28","v":4},{"$f":"'Záznamy hry'!L28","v":89},{"$f":"'Záznamy hry'!M28","v":54},{"$f":"'Záznamy hry'!N28","v":1},{"$f":"C60+F60+I60+L60","v":323},{"$f":"D60+G60+J60+M60","v":176},{"$f":"E60+H60+K60+N60","v":8},{"$f":"O60+P60","v":499}]
["59.",{"$f":"'Záznamy hry'!B76","v":"Kovandová Tereza"},{"$f":"'Záznamy hry'!C76","v":88},{"$f":"'Záznamy hry'!D76","v":35},{"$f":"'Záznamy hry'!E76","v":4},{"$f":"'Záznamy hry'!F76","v":86},{"$f":"'Záznamy hry'!G76","v":33},{"$f":"'Záznamy hry'!H76","v":4},{"$f":"'Záznamy hry'!I76","v":89},{"$f":"'Záznamy hry'!J76","v":50},{"$f":"'Záznamy hry'!K76","v":2},{"$f":"'Záznamy hry'!L76","v":82},{"$f":"'Záznamy hry'!M76","v":36},{"$f":"'Záznamy hry'!N76","v":1},{"$f":"C61+F61+I61+L61","v":345},{"$f":"D61+G61+J61+M61","v":154},{"$f":"E61+H61+K61+N61","v":11},{"$f":"O61+P61","v":499}]
["60.",{"$f":"'Záznamy hry'!B47","v":"Dudová Alena"},{"$f":"'Záznamy hry'!C47","v":89},{"$f":"'Záznamy hry'!D47","v":26},{"$f":"'Záznamy hry'!E47","v":8},{"$f":"'Záznamy hry'!F47","v":98},{"$f":"'Záznamy hry'!G47","v":33},{"$f":"'Záznamy hry'!H47","v":2},{"$f":"'Záznamy hry'!I47","v":99},{"$f":"'Záznamy hry'!J47","v":43},{"$f":"'Záznamy hry'!K47","v":2},{"$f":"'Záznamy hry'!L47","v":90},{"$f":"'Záznamy hry'!M47","v":18},{"$f":"'Záznamy hry'!N47","v":6},{"$f":"C62+F62+I62+L62","v":376},{"$f":"D62+G62+J62+M62","v":120},{"$f":"E62+H62+K62+N62","v":18},{"$f":"O62+P62","v":496}]
["61.",{"$f":"'Záznamy hry'!B15","v":"Šostý Miroslav  "},{"$f":"'Záznamy hry'!C15","v":84},{"$f":"'Záznamy hry'!D15","v":18},{"$f":"'Záznamy hry'!E15","v":6},{"$f":"'Záznamy hry'!F15","v":92},{"$f":"'Záznamy hry'!G15","v":44},{"$f":"'Záznamy hry'!H15","v":2},{"$f":"'Záznamy hry'!I15","v":90},{"$f":"'Záznamy hry'!J15","v":43},{"$f":"'Záznamy hry'!K15","v":1},{"$f":"'Záznamy hry'!L15","v":81},{"$f":"'Záznamy hry'!M15","v":43},{"$f":"'Záznamy hry'!N15","v":2},{"$f":"C63+F63+I63+L63","v":347},{"$f":"D63+G63+J63+M63","v":148},{"$f":"E63+H63+K63+N63","v":11},{"$f":"O63+P63","v":495}]
["62.",{"$f":"'Záznamy hry'!B41","v":"Bartoň David"},{"$f":"'Záznamy hry'!C41","v":81},{"$f":"'Záznamy hry'!D41","v":61},{"$f":"'Záznamy hry'!E41","v":0},{"$f":"'Záznamy hry'!F41","v":89},{"$f":"'Záznamy hry'!G41","v":36},{"$f":"'Záznamy hry'!H41","v":3},{"$f":"'Záznamy hry'!I41","v":80},{"$f":"'Záznamy hry'!J41","v":43},{"$f":"'Záznamy hry'!K41","v":3},{"$f":"'Záznamy hry'!L41","v":81},{"$f":"'Záznamy hry'!M41","v":23},{"$f":"'Záznamy hry'!N41","v":6},{"$f":"C64+F64+I64+L64","v":331},{"$f":"D64+G64+J64+M64","v":163},{"$f":"E64+H64+K64+N64","v":12},{"$f":"O64+P64","v":494}]
["63.",{"$f":"'Záznamy hry'!B73","v":"Vávra František"},{"$f":"'Záznamy hry'!C73","v":81},{"$f":"'Záznamy hry'!D73","v":27},{"$f":"'Záznamy hry'!E73","v":4},{"$f":"'Záznamy hry'!F73","v":86},{"$f":"'Záznamy hry'!G73","v":34},{"$f":"'Záznamy hry'!H73","v":3},{"$f":"'Záznamy hry'!I73","v":92},{"$f":"'Záznamy hry'!J73","v":52},{"$f":"'Záznamy hry'!K73","v":1},{"$f":"'Záznamy hry'!L73","v":85},{"$f":"'Záznamy hry'!M73","v":35},{"$f":"'Záznamy hry'!N73","v":3},{"$f":"C65+F65+I65+L65","v":344},{"$f":"D65+G65+J65+M65","v":148},{"$f":"E65+H65+K65+N65","v":11},{"$f":"O65+P65","v":492}]
["64.",{"$f":"'Záznamy hry'!B11","v":"Zahrádka Ladislav"},{"$f":"'Záznamy hry'!C11","v":87},{"$f":"'Záznamy hry'!D11","v":36},{"$f":"'Záznamy hry'!E11","v":2},{"$f":"'Záznamy hry'!F11","v":75},{"$f":"'Záznamy hry'!G11","v":34},{"$f":"'Záznamy hry'!H11","v":4},{"$f":"'Záznamy hry'!I11","v":90},{"$f":"'Záznamy hry'!J11","v":26},{"$f":"'Záznamy hry'!K11","v":4},{"$f":"'Záznamy hry'!L11","v":93},{"$f":"'Záznamy hry'!M11","v":50},{"$f":"'Záznamy hry'!N11","v":0},{"$f":"C66+F66+I66+L66","v":345},{"$f":"D66+G66+J66+M66","v":146},{"$f":"E66+H66+K66+N66","v":10},{"$f":"O66+P66","v":491}]
["65.",{"$f":"'Záznamy hry'!B72","v":"Dvořák Jan"},{"$f":"'Záznamy hry'!C72","v":96},{"$f":"'Záznamy hry'!D72","v":43},{"$f":"'Záznamy hry'!E72","v":2},{"$f":"'Záznamy hry'!F72","v":86},{"$f":"'Záznamy hry'!G72","v":39},{"$f":"'Záznamy hry'!H72","v":1},{"$f":"'Záznamy hry'!I72","v":81},{"$f":"'Záznamy hry'!J72","v":27},{"$f":"'Záznamy hry'!K72","v":3},{"$f":"'Záznamy hry'!L72","v":82},{"$f":"'Záznamy hry'!M72","v":35},{"$f":"'Záznamy hry'!N72","v":3},{"$f":"C67+F67+I67+L67","v":345},{"$f":"D67+G67+J67+M67","v":144},{"$f":"E67+H67+K67+N67","v":9},{"$f":"O67+P67","v":489}]
["66.",{"$f":"'Záznamy hry'!B20","v":"Chobotský Jan"},{"$f":"'Záznamy hry'!C20","v":94},{"$f":"'Záznamy hry'!D20","v":35},{"$f":"'Záznamy hry'!E20","v":1},{"$f":"'Záznamy hry'!F20","v":84},{"$f":"'Záznamy hry'!G20","v":27},{"$f":"'Záznamy hry'!H20","v":4},{"$f":"'Záznamy hry'!I20","v":88},{"$f":"'Záznamy hry'!J20","v":27},{"$f":"'Záznamy hry'!K20","v":3},{"$f":"'Záznamy hry'!L20","v":90},{"$f":"'Záznamy hry'!M20","v":35},{"$f":"'Záznamy hry'!N20","v":4},{"$f":"C68+F68+I68+L68","v":356},{"$f":"D68+G68+J68+M68","v":124},{"$f":"E68+H68+K68+N68","v":12},{"$f":"O68+P68","v":480}]
["67.",{"$f":"'Záznamy hry'!B70","v":"Kroupa Bedřich"},{"$f":"'Záznamy hry'!C70","v":74},{"$f":"'Záznamy hry'!D70","v":32},{"$f":"'Záznamy hry'!E70","v":6},{"$f":"'Záznamy hry'!F70","v":79},{"$f":"'Záznamy hry'!G70","v":50},{"$f":"'Záznamy hry'!H70","v":2},{"$f":"'Záznamy hry'!I70","v":86},{"$f":"'Záznamy hry'!J70","v":34},{"$f":"'Záznamy hry'!K70","v":3},{"$f":"'Záznamy hry'!L70","v":85},{"$f":"'Záznamy hry'!M70","v":36},{"$f":"'Záznamy hry'!N70","v":2},{"$f":"C69+F69+I69+L69","v":324},{"$f":"D69+G69+J69+M69","v":152},{"$f":"E69+H69+K69+N69","v":13},{"$f":"O69+P69","v":476}]
["68.",{"$f":"'Záznamy hry'!B64","v":"Kolařík Petr"},{"$f":"'Záznamy hry'!C64","v":86},{"$f":"'Záznamy hry'!D64","v":43},{"$f":"'Záznamy hry'!E64","v":0},{"$f":"'Záznamy hry'!F64","v":83},{"$f":"'Záznamy hry'!G64","v":35},{"$f":"'Záznamy hry'!H64","v":3},{"$f":"'Záznamy hry'!I64","v":80},{"$f":"'Záznamy hry'!J64","v":34},{"$f":"'Záznamy hry'!K64","v":3},{"$f":"'Záznamy hry'!L64","v":79},{"$f":"'Záznamy hry'!M64","v":33},{"$f":"'Záznamy hry'!N64","v":1},{"$f":"C70+F70+I70+L70","v":328},{"$f":"D70+G70+J70+M70","v":145},{"$f":"E70+H70+K70+N70","v":7},{"$f":"O70+P70","v":473}]
["69.",{"$f":"'Záznamy hry'!B69","v":"Votruba Jan"},{"$f":"'Záznamy hry'!C69","v":81},{"$f":"'Záznamy hry'!D69","v":34},{"$f":"'Záznamy hry'!E69","v":3},{"$f":"'Záznamy hry'!F69","v":81},{"$f":"'Záznamy hry'!G69","v":24},{"$f":"'Záznamy hry'!H69","v":7},{"$f":"'Záznamy hry'!I69","v":81},{"$f":"'Záznamy hry'!J69","v":36},{"$f":"'Záznamy hry'!K69","v":2},{"$f":"'Záznamy hry'!L69","v":92},{"$f":"'Záznamy hry'!M69","v":43},{"$f":"'Záznamy hry'!N69","v":1},{"$f":"C71+F71+I71+L71","v":335},{"$f":"D71+G71+J71+M71","v":137},{"$f":"E71+H71+K71+N71","v":13},{"$f":"O71+P71","v":472}]
["70.",{"$f":"'Záznamy hry'!B67","v":"Kříha Vlastimil"},{"$f":"'Záznamy hry'!C67","v":95},{"$f":"'Záznamy hry'!D67","v":14},{"$f":"'Záznamy hry'!E67","v":8},{"$f":"'Záznamy hry'!F67","v":88},{"$f":"'Záznamy hry'!G67","v":33},{"$f":"'Záznamy hry'!H67","v":4},{"$f":"'Záznamy hry'!I67","v":90},{"$f":"'Záznamy hry'!J67","v":24},{"$f":"'Záznamy hry'!K67","v":5},{"$f":"'Záznamy hry'!L67","v":90},{"$f":"'Záznamy hry'!M67","v":35},{"$f":"'Záznamy hry'!N67","v":3},{"$f":"C72+F72+I72+L72","v":363},{"$f":"D72+G72+J72+M72","v":106},{"$f":"E72+H72+K72+N72","v":20},{"$f":"O72+P72","v":469}]
["71.",{"$f":"'Záznamy hry'!B37","v":"Hanzálková Libuše"},{"$f":"'Záznamy hry'!C37","v":88},{"$f":"'Záznamy hry'!D37","v":35},{"$f":"'Záznamy hry'!E37","v":5},{"$f":"'Záznamy hry'!F37","v":73},{"$f":"'Záznamy hry'!G37","v":36},{"$f":"'Záznamy hry'!H37","v":2},{"$f":"'Záznamy hry'!I37","v":75},{"$f":"'Záznamy hry'!J37","v":33},{"$f":"'Záznamy hry'!K37","v":6},{"$f":"'Záznamy hry'!L37","v":87},{"$f":"'Záznamy hry'!M37","v":36},{"$f":"'Záznamy hry'!N37","v":5},{"$f":"C73+F73+I73+L73","v":323},{"$f":"D73+G73+J73+M73","v":140},{"$f":"E73+H73+K73+N73","v":18},{"$f":"O73+P73","v":463}]
["72.",{"$f":"'Záznamy hry'!B82","v":"Mertl Jiří"},{"$f":"'Záznamy hry'!C82","v":94},{"$f":"'Záznamy hry'!D82","v":17},{"$f":"'Záznamy hry'!E82","v":8},{"$f":"'Záznamy hry'!F82","v":91},{"$f":"'Záznamy hry'!G82","v":24},{"$f":"'Záznamy hry'!H82","v":5},{"$f":"'Záznamy hry'!I82","v":65},{"$f":"'Záznamy hry'!J82","v":36},{"$f":"'Záznamy hry'!K82","v":2},{"$f":"'Záznamy hry'!L82","v":89},{"$f":"'Záznamy hry'!M82","v":42},{"$f":"'Záznamy hry'!N82","v":4},{"$f":"C74+F74+I74+L74","v":339},{"$f":"D74+G74+J74+M74","v":119},{"$f":"E74+H74+K74+N74","v":19},{"$f":"O74+P74","v":458}]
["73.",{"$f":"'Záznamy hry'!B14","v":"Bernátek Bedřich"},{"$f":"'Záznamy hry'!C14","v":94},{"$f":"'Záznamy hry'!D14","v":26},{"$f":"'Záznamy hry'!E14","v":5},{"$f":"'Záznamy hry'!F14","v":77},{"$f":"'Záznamy hry'!G14","v":43},{"$f":"'Záznamy hry'!H14","v":1},{"$f":"'Záznamy hry'!I14","v":84},{"$f":"'Záznamy hry'!J14","v":34},{"$f":"'Záznamy hry'!K14","v":7},{"$f":"'Záznamy hry'!L14","v":63},{"$f":"'Záznamy hry'!M14","v":36},{"$f":"'Záznamy hry'!N14","v":1},{"$f":"C75+F75+I75+L75","v":318},{"$f":"D75+G75+J75+M75","v":139},{"$f":"E75+H75+K75+N75","v":14},{"$f":"O75+P75","v":457}]
["74.",{"$f":"'Záznamy hry'!B74","v":"Svoboda Josef"},{"$f":"'Záznamy hry'!C74","v":71},{"$f":"'Záznamy hry'!D74","v":35},{"$f":"'Záznamy hry'!E74","v":1},{"$f":"'Záznamy hry'!F74","v":72},{"$f":"'Záznamy hry'!G74","v":25},{"$f":"'Záznamy hry'!H74","v":7},{"$f":"'Záznamy hry'!I74","v":82},{"$f":"'Záznamy hry'!J74","v":42},{"$f":"'Záznamy hry'!K74","v":1},{"$f":"'Záznamy hry'!L74","v":84},{"$f":"'Záznamy hry'!M74","v":34},{"$f":"'Záznamy hry'!N74","v":4},{"$f":"C76+F76+I76+L76","v":309},{"$f":"D76+G76+J76+M76","v":136},{"$f":"E76+H76+K76+N76","v":13},{"$f":"O76+P76","v":445}]
["75.",{"$f":"'Záznamy hry'!B36","v":"Roubková Blanka"},{"$f":"'Záznamy hry'!C36","v":88},{"$f":"'Záznamy hry'!D36","v":17},{"$f":"'Záznamy hry'!E36","v":8},{"$f":"'Záznamy hry'!F36","v":75},{"$f":"'Záznamy hry'!G36","v":51},{"$f":"'Záznamy hry'!H36","v":1},{"$f":"'Záznamy hry'!I36","v":70},{"$f":"'Záznamy hry'!J36","v":42},{"$f":"'Záznamy hry'!K36","v":3},{"$f":"'Záznamy hry'!L36","v":81},{"$f":"'Záznamy hry'!M36","v":18},{"$f":"'Záznamy hry'!N36","v":7},{"$f":"C77+F77+I77+L77","v":314},{"$f":"D77+G77+J77+M77","v":128},{"$f":"E77+H77+K77+N77","v":19},{"$f":"O77+P77","v":442}]
["76.",{"$f":"'Záznamy hry'!B16","v":"Hrbek Ivan"},{"$f":"'Záznamy hry'!C16","v":75},{"$f":"'Záznamy hry'!D16","v":25},{"$f":"'Záznamy hry'!E16","v":6},{"$f":"'Záznamy hry'!F16","v":96},{"$f":"'Záznamy hry'!G16","v":31},{"$f":"'Záznamy hry'!H16","v":2},{"$f":"'Záznamy hry'!I16","v":79},{"$f":"'Záznamy hry'!J16","v":26},{"$f":"'Záznamy hry'!K16","v":8},{"$f":"'Záznamy hry'!L16","v":76},{"$f":"'Záznamy hry'!M16","v":33},{"$f":"'Záznamy hry'!N16","v":3},{"$f":"C78+F78+I78+L78","v":326},{"$f":"D78+G78+J78+M78","v":115},{"$f":"E78+H78+K78+N78","v":19},{"$f":"O78+P78","v":441}]
["77.",{"$f":"'Záznamy hry'!B13","v":"Pozner Jan"},{"$f":"'Záznamy hry'!C13","v":87},{"$f":"'Záznamy hry'!D13","v":33},{"$f":"'Záznamy hry'!E13","v":3},{"$f":"'Záznamy hry'!F13","v":78},{"$f":"'Záznamy hry'!G13","v":26},{"$f":"'Záznamy hry'!H13","v":5},{"$f":"'Záznamy hry'!I13","v":88},{"$f":"'Záznamy hry'!J13","v":27},{"$f":"'Záznamy hry'!K13","v":6},{"$f":"'Záznamy hry'!L13","v":71},{"$f":"'Záznamy hry'!M13","v":23},{"$f":"'Záznamy hry'!N13","v":5},{"$f":"C79+F79+I79+L79","v":324},{"$f":"D79+G79+J79+M79","v":109},{"$f":"E79+H79+K79+N79","v":19},{"$f":"O79+P79","v":433}]
["78.",{"$f":"'Záznamy hry'!B18","v":"Zdráhalová Martina"},{"$f":"'Záznamy hry'!C18","v":86},{"$f":"'Záznamy hry'!D18","v":24},{"$f":"'Záznamy hry'!E18","v":5},{"$f":"'Záznamy hry'!F18","v":72},{"$f":"'Záznamy hry'!G18","v":18},{"$f":"'Záznamy hry'!H18","v":6},{"$f":"'Záznamy hry'!I18","v":67},{"$f":"'Záznamy hry'!J18","v":26},{"$f":"'Záznamy hry'!K18","v":5},{"$f":"'Záznamy hry'!L18","v":80},{"$f":"'Záznamy hry'!M18","v":42},{"$f":"'Záznamy hry'!N18","v":0},{"$f":"C80+F80+I80+L80","v":305},{"$f":"D80+G80+J80+M80","v":110},{"$f":"E80+H80+K80+N80","v":16},{"$f":"O80+P80","v":415}]
["79.",{"$f":"'Záznamy hry'!B17","v":"Březina Rudolf"},{"$f":"'Záznamy hry'!C17","v":67},{"$f":"'Záznamy hry'!D17","v":27},{"$f":"'Záznamy hry'!E17","v":6},{"$f":"'Záznamy hry'!F17","v":83},{"$f":"'Záznamy hry'!G17","v":33},{"$f":"'Záznamy hry'!H17","v":4},{"$f":"'Záznamy hry'!I17","v":76},{"$f":"'Záznamy hry'!J17","v":24},{"$f":"'Záznamy hry'!K17","v":3},{"$f":"'Záznamy hry'!L17","v":71},{"$f":"'Záznamy hry'!M17","v":33},{"$f":"'Záznamy hry'!N17","v":6},{"$f":"C81+F81+I81+L81","v":297},{"$f":"D81+G81+J81+M81","v":117},{"$f":"E81+H81+K81+N81","v":19},{"$f":"O81+P81","v":414}]
["80.",{"$f":"'Záznamy hry'!B38","v":"Šedivcová Jitka"},{"$f":"'Záznamy hry'!C38","v":69},{"$f":"'Záznamy hry'!D38","v":34},{"$f":"'Záznamy hry'!E38","v":3},{"$f":"'Záznamy hry'!F38","v":71},{"$f":"'Záznamy hry'!G38","v":27},{"$f":"'Záznamy hry'!H38","v":4},{"$f":"'Záznamy hry'!I38","v":58},{"$f":"'Záznamy hry'!J38","v":25},{"$f":"'Záznamy hry'!K38","v":8},{"$f":"'Záznamy hry'!L38","v":79},{"$f":"'Záznamy hry'!M38","v":32},{"$f":"'Záznamy hry'!N38","v":4},{"$f":"C82+F82+I82+L82","v":277},{"$f":"D82+G82+J82+M82","v":118},{"$f":"E82+H82+K82+N82","v":19},{"$f":"O82+P82","v":395}]

{"sheet":"Pořadí družstev","index":1,"n_rows":21,"n_cols":11,"rows_kept":21,"cut":false,"hidden":false,"merged":[]}
["Pořadí","Družstvo","Hráč 1","Výkon 1","Hráč 2","Výkon 2","Hráč 3","Výkon 3","Hráč 4","Výkon 4","CELKEM\nDRUŽSTVO"]
["1.",{"$f":"'Záznamy hry'!$A$7","v":"Slovan Kamenice n/Lipou"},{"$f":"'Záznamy hry'!$B$7","v":"Ouhel Jiří ."},{"$f":"'Záznamy hry'!$R$7","v":574},{"$f":"'Záznamy hry'!$B$8","v":"Dúška Karel"},{"$f":"'Záznamy hry'!$R$8","v":539},{"$f":"'Záznamy hry'!$B$9","v":"Dúška David"},{"$f":"'Záznamy hry'!$R$9","v":592},{"$f":"'Záznamy hry'!$B$10","v":"Ouhel Jakub"},{"$f":"'Záznamy hry'!$R$10","v":559},{"$f":"'Záznamy hry'!$S$7","v":2264}]
["2.",{"$f":"'Záznamy hry'!$A$55","v":"KK Loko Tábor A"},{"$f":"'Záznamy hry'!$B$55","v":"Takáč Ladislav"},{"$f":"'Záznamy hry'!$R$55","v":581},{"$f":"'Záznamy hry'!$B$56","v":"Chval Petr"},{"$f":"'Záznamy hry'!$R$56","v":545},{"$f":"'Záznamy hry'!$B$57","v":"Smažík Karel"},{"$f":"'Záznamy hry'!$R$57","v":576},{"$f":"'Záznamy hry'!$B$58","v":"Jelínek Bořivoj"},{"$f":"'Záznamy hry'!$R$58","v":560},{"$f":"'Záznamy hry'!$S$55","v":2262}]
["3.",{"$f":"'Záznamy hry'!$A$51","v":"KK Loko Tábor B"},{"$f":"'Záznamy hry'!$B$51","v":"Kášek David"},{"$f":"'Záznamy hry'!$R$51","v":572},{"$f":"'Záznamy hry'!$B$52","v":"Filakovský Martin"},{"$f":"'Záznamy hry'!$R$52","v":577},{"$f":"'Záznamy hry'!$B$53","v":"Roubek Oldřich"},{"$f":"'Záznamy hry'!$R$53","v":525},{"$f":"'Záznamy hry'!$B$54","v":"Bystřický Petr"},{"$f":"'Záznamy hry'!$R$54","v":558},{"$f":"'Záznamy hry'!$S$51","v":2232}]
["4.",{"$f":"'Záznamy hry'!$A$23","v":"České Velenice"},{"$f":"'Záznamy hry'!$B$23","v":"Dvořák Zdeněk"},{"$f":"'Záznamy hry'!$R$23","v":588},{"$f":"'Záznamy hry'!$B$24","v":"Dvořák Miroslav"},{"$f":"'Záznamy hry'!$R$24","v":558},{"$f":"'Záznamy hry'!$B$25","v":"Dvořák Zbyněk"},{"$f":"'Záznamy hry'!$R$25","v":555},{"$f":"'Záznamy hry'!$B$26","v":"Dvořáková Kamila"},{"$f":"'Záznamy hry'!$R$26","v":510},{"$f":"'Záznamy hry'!$S$23","v":2211}]
["5.",{"$f":"'Záznamy hry'!$A$27","v":"KK Hilton Sezimovo Ústí"},{"$f":"'Záznamy hry'!$B$27","v":"Vrbík Pavel"},{"$f":"'Záznamy hry'!$R$27","v":543},{"$f":"'Záznamy hry'!$B$28","v":"Jelínek Dušan"},{"$f":"'Záznamy hry'!$R$28","v":499},{"$f":"'Záznamy hry'!$B$29","v":"Mikuláštík Michal"},{"$f":"'Záznamy hry'!$R$29","v":531},{"$f":"'Záznamy hry'!$B$30","v":"Novák Jan"},{"$f":"'Záznamy hry'!$R$30","v":622},{"$f":"'Záznamy hry'!$S$27","v":2195}]
["6.",{"$f":"'Záznamy hry'!$A$43","v":"KK Loko Tábor C"},{"$f":"'Záznamy hry'!$B$43","v":"Kučera Vladimír"},{"$f":"'Záznamy hry'!$R$43","v":587},{"$f":"'Záznamy hry'!$B$44","v":"Zeman Zdeněk"},{"$f":"'Záznamy hry'!$R$44","v":534},{"$f":"'Záznamy hry'!$B$45","v":"Klimek Petr"},{"$f":"'Záznamy hry'!$R$45","v":518},{"$f":"'Záznamy hry'!$B$46","v":"Kořínek Pavel"},{"$f":"'Záznamy hry'!$R$46","v":533},{"$f":"'Záznamy hry'!$S$43","v":2172}]
["7.",{"$f":"'Záznamy hry'!$A$3","v":"Sokol Chotoviny A"},{"$f":"'Záznamy hry'!$B$3","v":"Hein Zbyněk"},{"$f":"'Záznamy hry'!$R$3","v":549},{"$f":"'Záznamy hry'!$B$4","v":"Fořter Jan"},{"$f":"'Záznamy hry'!$R$4","v":549},{"$f":"'Záznamy hry'!$B$5","v":"Hrstka Libor"},{"$f":"'Záznamy hry'!$R$5","v":525},{"$f":"'Záznamy hry'!$B$6","v":"Bartoň Jan"},{"$f":"'Záznamy hry'!$R$6","v":529},{"$f":"'Záznamy hry'!$S$3","v":2152}]
["8.",{"$f":"'Záznamy hry'!$A$59","v":"Borovany"},{"$f":"'Záznamy hry'!$B$59","v":"Soukup Martin"},{"$f":"'Záznamy hry'!$R$59","v":564},{"$f":"'Záznamy hry'!$B$60","v":"Šimková Jitka"},{"$f":"'Záznamy hry'!$R$60","v":526},{"$f":"'Záznamy hry'!$B$61","v":"Siebenbrunner Čestm."},{"$f":"'Záznamy hry'!$R$61","v":525},{"$f":"'Záznamy hry'!$B$62","v":"Malovaný Jiří"},{"$f":"'Záznamy hry'!$R$62","v":525},{"$f":"'Záznamy hry'!$S$59","v":2140}]
["9.",{"$f":"'Záznamy hry'!$A$39","v":"Sokol Chotoviny B"},{"$f":"'Záznamy hry'!$B$39","v":"Křemen Petr"},{"$f":"'Záznamy hry'!$R$39","v":540},{"$f":"'Záznamy hry'!$B$40","v":"Makovcová Alena"},{"$f":"'Záznamy hry'!$R$40","v":515},{"$f":"'Záznamy hry'!$B$41","v":"Bartoň David"},{"$f":"'Záznamy hry'!$R$41","v":494},{"$f":"'Záznamy hry'!$B$42","v":"Makovec Pavel"},{"$f":"'Záznamy hry'!$R$42","v":559},{"$f":"'Záznamy hry'!$S$39","v":2108}]
["10.",{"$f":"'Záznamy hry'!$A$79","v":"Jiskra Nová Bystřice"},{"$f":"'Záznamy hry'!$B$79","v":"Chvátal Marek"},{"$f":"'Záznamy hry'!$R$79","v":550},{"$f":"'Záznamy hry'!$B$80","v":"Pýchová Barbora"},{"$f":"'Záznamy hry'!$R$80","v":547},{"$f":"'Záznamy hry'!$B$81","v":"Mertlová Petra"},{"$f":"'Záznamy hry'!$R$81","v":552},{"$f":"'Záznamy hry'!$B$82","v":"Mertl Jiří"},{"$f":"'Záznamy hry'!$R$82","v":458},{"$f":"'Záznamy hry'!$S$79","v":2107}]
["11.",{"$f":"'Záznamy hry'!$A$63","v":"Písek"},{"$f":"'Záznamy hry'!$B$63","v":"Korecká Jitka"},{"$f":"'Záznamy hry'!$R$63","v":540},{"$f":"'Záznamy hry'!$B$64","v":"Kolařík Petr"},{"$f":"'Záznamy hry'!$R$64","v":473},{"$f":"'Záznamy hry'!$B$65","v":"Koubek Karel"},{"$f":"'Záznamy hry'!$R$65","v":537},{"$f":"'Záznamy hry'!$B$66","v":"Nedomová Drahomíra"},{"$f":"'Záznamy hry'!$R$66","v":539},{"$f":"'Záznamy hry'!$S$63","v":2089}]
["12.",{"$f":"'Záznamy hry'!$A$31","v":"TJ Blatná"},{"$f":"'Záznamy hry'!$B$31","v":"Kobliha Vítek"},{"$f":"'Záznamy hry'!$R$31","v":544},{"$f":"'Záznamy hry'!$B$32","v":"Kníže Stanislav"},{"$f":"'Záznamy hry'!$R$32","v":509},{"$f":"'Záznamy hry'!$B$33","v":"Vokurka Jiří"},{"$f":"'Záznamy hry'!$R$33","v":512},{"$f":"'Záznamy hry'!$B$34","v":"Mikeš Josef"},{"$f":"'Záznamy hry'!$R$34","v":512},{"$f":"'Záznamy hry'!$S$31","v":2077}]
["13.",{"$f":"'Záznamy hry'!$A$47","v":"Spartak Soběslav"},{"$f":"'Záznamy hry'!$B$47","v":"Dudová Alena"},{"$f":"'Záznamy hry'!$R$47","v":496},{"$f":"'Záznamy hry'!$B$48","v":"Chalaš Jaroslav"},{"$f":"'Záznamy hry'!$R$48","v":513},{"$f":"'Záznamy hry'!$B$49","v":"Štefan Jan"},{"$f":"'Záznamy hry'!$R$49","v":532},{"$f":"'Záznamy hry'!$B$50","v":"Kopic Jindra"},{"$f":"'Záznamy hry'!$R$50","v":525},{"$f":"'Záznamy hry'!$S$47","v":2066}]
["14.",{"$f":"'Záznamy hry'!$A$75","v":"Chýnov B"},{"$f":"'Záznamy hry'!$B$75","v":"Burdová Vendulka"},{"$f":"'Záznamy hry'!$R$75","v":522},{"$f":"'Záznamy hry'!$B$76","v":"Kovandová Tereza"},{"$f":"'Záznamy hry'!$R$76","v":499},{"$f":"'Záznamy hry'!$B$77","v":"Návarová Věra"},{"$f":"'Záznamy hry'!$R$77","v":528},{"$f":"'Záznamy hry'!$B$78","v":"Kovandová Alena"},{"$f":"'Záznamy hry'!$R$78","v":511},{"$f":"'Záznamy hry'!$S$75","v":2060}]
["15.",{"$f":"'Záznamy hry'!$A$19","v":"Sokol Chotoviny C"},{"$f":"'Záznamy hry'!$B$19","v":"Svačina Jiří"},{"$f":"'Záznamy hry'!$R$19","v":533},{"$f":"'Záznamy hry'!$B$20","v":"Chobotský Jan"},{"$f":"'Záznamy hry'!$R$20","v":480},{"$f":"'Záznamy hry'!$B$21","v":"Svatošová Iva"},{"$f":"'Záznamy hry'!$R$21","v":524},{"$f":"'Záznamy hry'!$B$22","v":"Kučerová Gabriela"},{"$f":"'Záznamy hry'!$R$22","v":500},{"$f":"'Záznamy hry'!$S$19","v":2037}]
["16.",{"$f":"'Záznamy hry'!$A$71","v":"Trhové Sviny B"},{"$f":"'Záznamy hry'!$B$71","v":"Vychodil Jaroslav"},{"$f":"'Záznamy hry'!$R$71","v":527},{"$f":"'Záznamy hry'!$B$72","v":"Dvořák Jan"},{"$f":"'Záznamy hry'!$R$72","v":489},{"$f":"'Záznamy hry'!$B$73","v":"Vávra František"},{"$f":"'Záznamy hry'!$R$73","v":492},{"$f":"'Záznamy hry'!$B$74","v":"Svoboda Josef"},{"$f":"'Záznamy hry'!$R$74","v":445},{"$f":"'Záznamy hry'!$S$71","v":1953}]
["17.",{"$f":"'Záznamy hry'!$A$67","v":"Trhové Sviny A"},{"$f":"'Záznamy hry'!$B$67","v":"Kříha Vlastimil"},{"$f":"'Záznamy hry'!$R$67","v":469},{"$f":"'Záznamy hry'!$B$68","v":"Kroupová Daniela"},{"$f":"'Záznamy hry'!$R$68","v":516},{"$f":"'Záznamy hry'!$B$69","v":"Votruba Jan"},{"$f":"'Záznamy hry'!$R$69","v":472},{"$f":"'Záznamy hry'!$B$70","v":"Kroupa Bedřich"},{"$f":"'Záznamy hry'!$R$70","v":476},{"$f":"'Záznamy hry'!$S$67","v":1933}]
["18.",{"$f":"'Záznamy hry'!$A$35","v":"Sokol Chýnov A"},{"$f":"'Záznamy hry'!$B$35","v":"Mašková Blanka"},{"$f":"'Záznamy hry'!$R$35","v":594},{"$f":"'Záznamy hry'!$B$36","v":"Roubková Blanka"},{"$f":"'Záznamy hry'!$R$36","v":442},{"$f":"'Záznamy hry'!$B$37","v":"Hanzálková Libuše"},{"$f":"'Záznamy hry'!$R$37","v":463},{"$f":"'Záznamy hry'!$B$38","v":"Šedivcová Jitka"},{"$f":"'Záznamy hry'!$R$38","v":395},{"$f":"'Záznamy hry'!$S$35","v":1894}]
["19.",{"$f":"'Záznamy hry'!$A$11","v":"SK Meteor Praha"},{"$f":"'Záznamy hry'!$B$11","v":"Zahrádka Ladislav"},{"$f":"'Záznamy hry'!$R$11","v":491},{"$f":"'Záznamy hry'!$B$12","v":"Novotný Jiří"},{"$f":"'Záznamy hry'!$R$12","v":509},{"$f":"'Záznamy hry'!$B$13","v":"Pozner Jan"},{"$f":"'Záznamy hry'!$R$13","v":433},{"$f":"'Záznamy hry'!$B$14","v":"Bernátek Bedřich"},{"$f":"'Záznamy hry'!$R$14","v":457},{"$f":"'Záznamy hry'!$S$11","v":1890}]
["20.",{"$f":"'Záznamy hry'!$A$15","v":"Kulidraci Praha"},{"$f":"'Záznamy hry'!$B$15","v":"Šostý Miroslav  "},{"$f":"'Záznamy hry'!$R$15","v":495},{"$f":"'Záznamy hry'!$B$16","v":"Hrbek Ivan"},{"$f":"'Záznamy hry'!$R$16","v":441},{"$f":"'Záznamy hry'!$B$17","v":"Březina Rudolf"},{"$f":"'Záznamy hry'!$R$17","v":414},{"$f":"'Záznamy hry'!$B$18","v":"Zdráhalová Martina"},{"$f":"'Záznamy hry'!$R$18","v":415},{"$f":"'Záznamy hry'!$S$15","v":1765}]

{"sheet":"Záznamy hry","index":2,"n_rows":82,"n_cols":19,"rows_kept":82,"cut":false,"hidden":false,"merged":[[74,0,77,0],[74,18,77,18],[78,0,81,0],[78,18,81,18],[62,0,65,0],[62,18,65,18],[66,0,69,0],[66,18,69,18],[70,0,73,0],[70,18,73,18],[50,0,53,0],[50,18,53,18],[54,0,57,0],[54,18,57,18],[58,0,61,0],[58,18,61,18],[0,0,1,0],[0,18,1,18],[0,14,0,16],[0,17,1,17],[0,1,1,1],[0,2,0,4],[0,5,0,7],[0,8,0,10],[0,11,0,13],[2,0,5,0],[34,18,37,18],[38,18,41,18],[42,18,45,18],[46,18,49,18],[22,18,25,18],[26,18,29,18],[30,18,33,18],[22,0,25,0],[26,0,29,0],[30,0,33,0],[2,18,5,18],[6,18,9,18],[10,18,13,18],[14,18,17,18],[18,18,21,18],[6,0,9,0],[14,0,17,0],[10,0,13,0],[18,0,21,0],[46,0,49,0],[38,0,41,0],[34,0,37,0],[42,0,45,0]]}
["Družstvo","Hráč","Dráha 1.",null,null,"Dráha 2.",null,null,"Dráha 3.",null,null,"Dráha 4.",null,null,"CELKEM HRÁČ",null,null,"VÝKON\nHRÁČE","CELKEM\nDRUŽSTVO"]
[null,null,"Plné","Dor.","Chyby","Plné","Dor.","Chyby","Plné","Dor.","Chyby","Plné","Dor.","Chyby","Plné","Dor.","Chyby"]
["Sokol Chotoviny A","Hein Zbyněk",87,36,2,100,52,1,94,42,1,93,45,3,{"$f":"C3+F3+I3+L3","v":374},{"$f":"D3+G3+J3+M3","v":175},{"$f":"E3+H3+K3+N3","v":7},{"$f":"O3+P3","v":549},{"$f":"R3+R4+R5+R6","v":2152}]
[null,"Fořter Jan",92,50,2,91,54,2,90,45,1,96,31,2,{"$f":"C4+F4+I4+L4","v":369},{"$f":"D4+G4+J4+M4","v":180},{"$f":"E4+H4+K4+N4","v":7},{"$f":"O4+P4","v":549}]
[null,"Hrstka Libor",85,41,1,88,53,3,88,52,0,86,32,3,347,178,7,525]
[null,"Bartoň Jan",97,32,3,91,40,2,86,45,1,95,43,0,369,160,6,529]
["Slovan Kamenice n/Lipou","Ouhel Jiří .",95,45,2,99,35,3,97,54,1,91,58,0,382,192,6,574,{"$f":"R7+R8+R9+R10","v":2264}]
[null,"Dúška Karel",86,36,0,95,50,1,88,52,1,88,44,0,357,182,2,539]
[null,"Dúška David",98,53,0,100,44,1,90,50,0,95,62,0,383,209,1,592]
[null,"Ouhel Jakub",88,44,0,99,45,2,94,54,0,94,41,2,375,184,4,559]
["SK Meteor Praha","Zahrádka Ladislav",87,36,2,75,34,4,90,26,4,93,50,0,345,146,10,491,{"$f":"R11+R12+R13+R14","v":1890}]
[null,"Novotný Jiří",88,40,3,80,44,3,89,45,2,87,36,3,344,165,11,509]
[null,"Pozner Jan",87,33,3,78,26,5,88,27,6,71,23,5,324,109,19,433]
[null,"Bernátek Bedřich",94,26,5,77,43,1,84,34,7,63,36,1,318,139,14,457]
["Kulidraci Praha","Šostý Miroslav  ",84,18,6,92,44,2,90,43,1,81,43,2,347,148,11,495,{"$f":"R15+R16+R17+R18","v":1765}]
[null,"Hrbek Ivan",75,25,6,96,31,2,79,26,8,76,33,3,326,115,19,441]
[null,"Březina Rudolf",67,27,6,83,33,4,76,24,3,71,33,6,297,117,19,414]
[null,"Zdráhalová Martina",86,24,5,72,18,6,67,26,5,80,42,0,305,110,16,415]
["Sokol Chotoviny C","Svačina Jiří",88,45,0,84,51,0,84,44,1,84,53,1,340,193,2,533,{"$f":"R19+R20+R21+R22","v":2037}]
[null,"Chobotský Jan",94,35,1,84,27,4,88,27,3,90,35,4,356,124,12,480]
[null,"Svatošová Iva",107,44,1,95,34,2,87,45,1,78,34,2,367,157,6,524]
[null,"Kučerová Gabriela",94,45,1,89,25,3,89,44,2,81,33,3,353,147,9,500]
["České Velenice","Dvořák Zdeněk",95,68,0,91,36,0,86,34,3,110,68,0,382,206,3,588,{"$f":"R23+R24+R25+R26","v":2211}]
[null,"Dvořák Miroslav",100,68,0,95,41,2,94,35,2,82,43,2,371,187,6,558]
[null,"Dvořák Zbyněk",91,45,1,102,44,1,83,50,1,96,44,0,372,183,3,555]
[null,"Dvořáková Kamila",86,35,1,86,40,0,88,43,2,91,41,1,351,159,4,510]
["KK Hilton Sezimovo Ústí","Vrbík Pavel",89,51,2,86,60,0,89,41,0,92,35,1,356,187,3,543,{"$f":"R27+R28+R29+R30","v":2195}]
[null,"Jelínek Dušan",87,42,1,69,35,2,78,45,4,89,54,1,323,176,8,499]
[null,"Mikuláštík Michal",88,32,6,104,54,0,86,33,3,99,35,3,377,154,12,531]
[null,"Novák Jan",95,72,1,96,52,1,102,61,0,91,53,0,384,238,2,622]
["TJ Blatná","Kobliha Vítek",88,36,1,89,52,1,88,54,0,88,49,0,353,191,2,544,{"$f":"R31+R32+R33+R34","v":2077}]
[null,"Kníže Stanislav",90,27,0,84,42,4,85,51,0,87,43,2,346,163,6,509]
[null,"Vokurka Jiří",96,43,1,94,35,3,83,36,3,89,36,0,362,150,7,512]
[null,"Mikeš Josef",84,31,3,98,43,0,99,36,1,88,33,3,369,143,7,512]
["Sokol Chýnov A","Mašková Blanka",92,45,1,107,62,2,104,42,1,98,44,0,401,193,4,594,{"$f":"R35+R36+R37+R38","v":1894}]
[null,"Roubková Blanka",88,17,8,75,51,1,70,42,3,81,18,7,314,128,19,442]
[null,"Hanzálková Libuše",88,35,5,73,36,2,75,33,6,87,36,5,323,140,18,463]
[null,"Šedivcová Jitka",69,34,3,71,27,4,58,25,8,79,32,4,277,118,19,395]
["Sokol Chotoviny B","Křemen Petr",82,45,1,100,44,0,96,43,3,89,41,1,367,173,5,540,{"$f":"R39+R40+R41+R42","v":2108}]
[null,"Makovcová Alena",92,41,3,83,52,2,92,35,4,89,31,6,356,159,15,515]
[null,"Bartoň David",81,61,0,89,36,3,80,43,3,81,23,6,331,163,12,494]
[null,"Makovec Pavel",85,60,1,88,51,0,88,54,0,90,43,0,351,208,1,559]
["KK Loko Tábor C","Kučera Vladimír",103,62,1,95,51,0,86,49,2,88,53,0,372,215,3,587,{"$f":"R43+R44+R45+R46","v":2172}]
[null,"Zeman Zdeněk",94,53,1,91,47,0,80,43,0,87,39,1,352,182,2,534]
[null,"Klimek Petr",97,33,3,90,43,2,89,36,1,87,43,1,363,155,7,518]
[null,"Kořínek Pavel",108,34,3,94,26,5,89,51,1,95,36,2,386,147,11,533]
["Spartak Soběslav","Dudová Alena",89,26,8,98,33,2,99,43,2,90,18,6,376,120,18,496,{"$f":"R47+R48+R49+R50","v":2066}]
[null,"Chalaš Jaroslav",85,44,4,99,35,2,81,49,1,84,36,4,349,164,11,513]
[null,"Štefan Jan",99,35,2,80,51,1,89,36,0,89,53,0,357,175,3,532]
[null,"Kopic Jindra",92,36,3,82,40,1,91,51,0,97,36,2,362,163,6,{"$f":"O50+P50","v":525}]
["KK Loko Tábor B","Kášek David",96,48,1,106,53,1,88,44,0,94,43,2,{"$f":"C51+F51+I51+L51","v":384},{"$f":"D51+G51+J51+M51","v":188},{"$f":"E51+H51+K51+N51","v":4},572,{"$f":"R51+R52+R53+R54","v":2232}]
[null,"Filakovský Martin",98,53,0,94,44,1,97,54,0,87,50,1,376,201,2,577]
[null,"Roubek Oldřich",81,44,2,93,54,1,84,44,0,93,32,2,351,174,5,525]
[null,"Bystřický Petr",91,53,1,99,51,2,87,42,1,93,42,0,370,188,4,{"$f":"O54+P54","v":558}]
["KK Loko Tábor A","Takáč Ladislav",95,57,0,97,43,0,84,60,0,101,44,2,{"$f":"C55+F55+I55+L55","v":377},{"$f":"D55+G55+J55+M55","v":204},{"$f":"E55+H55+K55+N55","v":2},581,{"$f":"R55+R56+R57+R58","v":2262}]
[null,"Chval Petr",89,53,1,85,45,1,92,42,1,103,36,0,369,176,3,545]
[null,"Smažík Karel",97,54,0,84,54,2,97,52,1,93,45,0,371,205,3,576]
[null,"Jelínek Bořivoj",97,52,1,100,42,1,89,45,0,83,52,2,369,191,4,{"$f":"O58+P58","v":560}]
["Borovany","Soukup Martin",109,53,2,96,35,4,87,44,0,95,45,0,387,177,6,564,{"$f":"R59+R60+R61+R62","v":2140}]
[null,"Šimková Jitka",91,54,1,82,45,1,87,31,4,85,51,2,345,181,8,526]
[null,"Siebenbrunner Čestm.",80,49,0,98,27,2,89,51,2,97,34,3,364,161,7,525]
[null,"Malovaný Jiří",93,34,1,85,57,1,85,43,2,94,34,4,357,168,8,525]
["Písek","Korecká Jitka",83,49,0,98,36,2,99,43,1,88,44,0,368,172,3,540,{"$f":"R63+R64+R65+R66","v":2089}]
[null,"Kolařík Petr",86,43,0,83,35,3,80,34,3,79,33,1,328,145,7,473]
[null,"Koubek Karel",91,45,1,105,35,3,83,54,0,89,35,3,368,169,7,537]
[null,"Nedomová Drahomíra",94,35,5,87,43,1,102,45,1,97,36,2,380,159,9,539]
["Trhové Sviny A","Kříha Vlastimil",95,14,8,88,33,4,90,24,5,90,35,3,363,106,20,469,{"$f":"R67+R68+R69+R70","v":1933}]
[null,"Kroupová Daniela",85,36,3,101,44,3,91,40,2,84,35,4,361,155,12,516]
[null,"Votruba Jan",81,34,3,81,24,7,81,36,2,92,43,1,335,137,13,472]
[null,"Kroupa Bedřich",74,32,6,79,50,2,86,34,3,85,36,2,324,152,13,476]
["Trhové Sviny B","Vychodil Jaroslav",84,43,0,79,44,2,91,35,1,97,54,0,351,176,3,527,{"$f":"R71+R72+R73+R74","v":1953}]
[null,"Dvořák Jan",96,43,2,86,39,1,81,27,3,82,35,3,345,144,9,489]
[null,"Vávra František",81,27,4,86,34,3,92,52,1,85,35,3,344,148,11,492]
[null,"Svoboda Josef",71,35,1,72,25,7,82,42,1,84,34,4,309,136,13,445]
["Chýnov B","Burdová Vendulka",86,41,3,91,53,1,80,44,3,94,33,1,{"$f":"C75+F75+I75+L75","v":351},{"$f":"D75+G75+J75+M75","v":171},{"$f":"E75+H75+K75+N75","v":8},{"$f":"O75+P75","v":522},{"$f":"R75+R76+R77+R78","v":2060}]
[null,"Kovandová Tereza",88,35,4,86,33,4,89,50,2,82,36,1,345,154,11,499]
[null,"Návarová Věra",88,50,2,84,45,1,97,34,2,88,42,2,357,171,7,528]
[null,"Kovandová Alena",84,34,2,95,36,0,84,54,2,92,32,6,355,156,10,511]
["Jiskra Nová Bystřice","Chvátal Marek",94,45,3,99,43,1,95,36,1,93,45,1,381,169,6,550,{"$f":"R79+R80+R81+R82","v":2107}]
[null,"Pýchová Barbora",87,44,1,92,53,2,101,44,0,83,43,1,363,184,4,547]
[null,"Mertlová Petra",93,27,5,84,52,1,99,45,2,100,52,0,376,176,8,552]
[null,"Mertl Jiří",94,17,8,91,24,5,65,36,2,89,42,4,339,119,19,458]